BEGIN:VCALENDAR
PRODID:-//PUBBLE//agenda//NL
VERSION:2.0
METHOD:PUBLISH
BEGIN:VEVENT
DTSTART:20260807T160000Z
DTEND:20260807T230000Z
DTSTAMP:20260421T200403Z
UID:8afc4250-ffe9-4b4c-af7e-2178040c3830
CREATED:20260421T200403Z
NAME:💜150 jaar Mata Hari - Er is er een jarig! | slotfeest | Mata Hariplein grootleeuwarden.nl
X-WR-CALNAME:💜150 jaar Mata Hari - Er is er een jarig! | slotfeest | Mata Hariplein
X-ALT-DESC;FMTTYPE=text/html:<a href='/agenda/2026/8/7/-150-jaar-mata-hari-er-is-er-een-jarig-slotfeest-mata-hariplein-130866'>/agenda/2026/8/7/-150-jaar-mata-hari-er-is-er-een-jarig-slotfeest-mata-hariplein-130866</a> || <p><em>Hoera!&nbsp;</em></p>
<p>Mata Hari wordt op deze dag 150 jaar oud, en dat vieren we. We vieren het leven van een grootse, moedige vrouw die haar tijd ver vooruit was. Ze baande een weg voor alle vrouwen die na haar kwamen, voor vrouwen uit haar tijd - maar ook voor de vrouwen van nu. Op vrijdag 7 augustus, Mata Hari’s verjaardag, vieren we daarom de vrijheid die zij cultiveerde.&nbsp;</p>
<p>Dat doen we met een rijk programma - livemuziek, dj’s, een snufje <em>drag</em>, een korreltje dans, een scheutje wijn. De locatie geven we nog niet weg, maar voor iedereen met ook maar een beetje spionnenbloed, blijft het niet lang geheim.&nbsp;</p>
<p><strong><em>Dit evenement is onderdeel van </em>150 jaar Mata Hari<em>. Dit jubileumjaar vieren we in Leeuwarden met kunst, dans, theater, feestjes, exposities, tours en nog veel meer. Het programma loopt van 23 mei tot en met 7 augustus (Mata Hari’s verjaardag) en is&nbsp;<a href="https://www.visitleeuwarden.com/nl/150jaarmatahari" target="_blank">hier</a>&nbsp;te vinden.</em></strong></p>
DESCRIPTION:<a href='/agenda/2026/8/7/-150-jaar-mata-hari-er-is-er-een-jarig-slotfeest-mata-hariplein-130866'>/agenda/2026/8/7/-150-jaar-mata-hari-er-is-er-een-jarig-slotfeest-mata-hariplein-130866</a> || <p><em>Hoera!&nbsp;</em></p>
<p>Mata Hari wordt op deze dag 150 jaar oud, en dat vieren we. We vieren het leven van een grootse, moedige vrouw die haar tijd ver vooruit was. Ze baande een weg voor alle vrouwen die na haar kwamen, voor vrouwen uit haar tijd - maar ook voor de vrouwen van nu. Op vrijdag 7 augustus, Mata Hari’s verjaardag, vieren we daarom de vrijheid die zij cultiveerde.&nbsp;</p>
<p>Dat doen we met een rijk programma - livemuziek, dj’s, een snufje <em>drag</em>, een korreltje dans, een scheutje wijn. De locatie geven we nog niet weg, maar voor iedereen met ook maar een beetje spionnenbloed, blijft het niet lang geheim.&nbsp;</p>
<p><strong><em>Dit evenement is onderdeel van </em>150 jaar Mata Hari<em>. Dit jubileumjaar vieren we in Leeuwarden met kunst, dans, theater, feestjes, exposities, tours en nog veel meer. Het programma loopt van 23 mei tot en met 7 augustus (Mata Hari’s verjaardag) en is&nbsp;<a href="https://www.visitleeuwarden.com/nl/150jaarmatahari" target="_blank">hier</a>&nbsp;te vinden.</em></strong></p>
LAST-MODIFIED:20260421T200403Z
LOCATION: Onbekend |   Regio Heerenveen / Joure
SEQUENCE:0
STATUS:CONFIRMED
SUMMARY:💜150 jaar Mata Hari - Er is er een jarig! | slotfeest | Mata Hariplein
TRANSP:OPAQUE
END:VEVENT
END:VCALENDAR
