BEGIN:VCALENDAR
PRODID:-//PUBBLE//agenda//NL
VERSION:2.0
METHOD:PUBLISH
BEGIN:VEVENT
DTSTART:20260523T163000Z
DTEND:20260523T170000Z
DTSTAMP:20260421T181018Z
UID:041d780b-0a67-4d78-930b-00fcdfbab691
CREATED:20260421T181018Z
NAME:💜150 jaar Mata Hari - Echo’s van Mata Hari | immersieve lichtinstallatie grootleeuwarden.nl
X-WR-CALNAME:💜150 jaar Mata Hari - Echo’s van Mata Hari | immersieve lichtinstallatie
X-ALT-DESC;FMTTYPE=text/html:<a href='/agenda/2026/5/23/-150-jaar-mata-hari-echos-van-mata-hari-immersieve-lichtinstallatie-130865'>/agenda/2026/5/23/-150-jaar-mata-hari-echos-van-mata-hari-immersieve-lichtinstallatie-130865</a> || <p><strong><em>Dit evenement is onderdeel van 150 jaar Mata Hari. Dit jubileumjaar vieren we in Leeuwarden met kunst, dans, theater, feestjes, exposities, tours en nog veel meer. Het programma loopt van 23 mei tot en met 7 augustus (Mata Hari’s verjaardag) en is&nbsp;<a href="https://www.visitleeuwarden.com/nl/150jaarmatahari" target="_blank">hier</a>&nbsp;te vinden.</em></strong></p>
<p>Als kind keek Mata Hari - toen nog Greetje, door de etalageramen van haar vaders hoedenwinkel naar de grote wereld die daarbuiten lag. De passanten: zakenmannen met lange jassen, moeders in de weer met handenvol kroost, mensen met haast, armoedzaaiers met zeeën van tijd. Het schetste van jongs af aan haar beeld van het leven - een leven dat volgens haar groter en meeslepender kon zijn dan dat alledaagse.</p>
<p>Tijdens de immersieve (lees: overal om je heen) lichtbeleving <em>Echo’s van Mata Hari </em>van kunstenaarsduo Kroft&amp;Smids (bekend van o.a. Decemberlicht) ervaar je het verhaal van Mata Hari, van haar geboorte in de Friese provinciehoofdstad tot daar waar het Franse noodlot haar trof. De voorstelling duurt zo’n 15 - 20 minuten en is gratis te bezoeken. Let op: Echo’s van Mata Hari is een intieme, immersieve beleving die je maar met z’n tienen tegelijk kunt meemaken. Reserveer dus vooraf wel even een plekje!</p>
DESCRIPTION:<a href='/agenda/2026/5/23/-150-jaar-mata-hari-echos-van-mata-hari-immersieve-lichtinstallatie-130865'>/agenda/2026/5/23/-150-jaar-mata-hari-echos-van-mata-hari-immersieve-lichtinstallatie-130865</a> || <p><strong><em>Dit evenement is onderdeel van 150 jaar Mata Hari. Dit jubileumjaar vieren we in Leeuwarden met kunst, dans, theater, feestjes, exposities, tours en nog veel meer. Het programma loopt van 23 mei tot en met 7 augustus (Mata Hari’s verjaardag) en is&nbsp;<a href="https://www.visitleeuwarden.com/nl/150jaarmatahari" target="_blank">hier</a>&nbsp;te vinden.</em></strong></p>
<p>Als kind keek Mata Hari - toen nog Greetje, door de etalageramen van haar vaders hoedenwinkel naar de grote wereld die daarbuiten lag. De passanten: zakenmannen met lange jassen, moeders in de weer met handenvol kroost, mensen met haast, armoedzaaiers met zeeën van tijd. Het schetste van jongs af aan haar beeld van het leven - een leven dat volgens haar groter en meeslepender kon zijn dan dat alledaagse.</p>
<p>Tijdens de immersieve (lees: overal om je heen) lichtbeleving <em>Echo’s van Mata Hari </em>van kunstenaarsduo Kroft&amp;Smids (bekend van o.a. Decemberlicht) ervaar je het verhaal van Mata Hari, van haar geboorte in de Friese provinciehoofdstad tot daar waar het Franse noodlot haar trof. De voorstelling duurt zo’n 15 - 20 minuten en is gratis te bezoeken. Let op: Echo’s van Mata Hari is een intieme, immersieve beleving die je maar met z’n tienen tegelijk kunt meemaken. Reserveer dus vooraf wel even een plekje!</p>
LAST-MODIFIED:20260421T181018Z
LOCATION: Onbekend | Kelders 33 Leeuwarden
SEQUENCE:0
STATUS:CONFIRMED
SUMMARY:💜150 jaar Mata Hari - Echo’s van Mata Hari | immersieve lichtinstallatie
TRANSP:OPAQUE
END:VEVENT
END:VCALENDAR
