BEGIN:VCALENDAR
PRODID:-//PUBBLE//agenda//NL
VERSION:2.0
METHOD:PUBLISH
BEGIN:VEVENT
DTSTART:20260708T193000Z
DTEND:20260708T210000Z
DTSTAMP:20260421T171012Z
UID:ddd46996-c9f3-4e66-8bba-243333de2f3e
CREATED:20260421T171012Z
NAME:💜150 jaar Mata Hari - Burlesque-les | dans | dbieb grootleeuwarden.nl
X-WR-CALNAME:💜150 jaar Mata Hari - Burlesque-les | dans | dbieb
X-ALT-DESC;FMTTYPE=text/html:<a href='/agenda/2026/7/8/-150-jaar-mata-hari-burlesque-les-dans-dbieb-130863'>/agenda/2026/7/8/-150-jaar-mata-hari-burlesque-les-dans-dbieb-130863</a> || <p><strong><em>Dit evenement is onderdeel van 150 jaar Mata Hari. Dit jubileumjaar vieren we in Leeuwarden met kunst, dans, theater, feestjes, exposities, tours en nog veel meer. Het programma loopt van 23 mei tot en met 7 augustus (Mata Hari’s verjaardag) en is&nbsp;<a href="https://www.visitleeuwarden.com/nl/150jaarmatahari" target="_blank">hier</a>&nbsp;te vinden.</em></strong></p>
<p>Voor Mata Hara was dansen vrijheid - maar precies die onverschrokken vrijheid leidde uiteindelijk tot haar gevangenschap en zelfs executie (het hele verhaal lees je <a href="https://www.visitleeuwarden.com/nl/blogs/mata-hari" target="_blank" rel="noreferrer noopener">hier</a>). Linda van Dansstudio Linda in Leeuwarden leert je hoe dat voelt, je vrij voelen in je eigen lichaam.</p>
<p>Tijdens een burlesqueles ontdek je de kracht van beweging, expressie en een tikkeltje rebellie. In de sfeervolle omgeving van dbieb duiken we in de wereld van de verleiding en zelfvertrouwen. Linda neemt je mee langs de fijne kneepjes van burlesque: van de trotse houding en de iconische <em>walk</em> tot het loslaten van alle onzekerheid. Het gaat niet om perfectie, maar om de onverschrokkenheid die Mata Hari typeerde - zonder de fatale afloop, natuurlijk.</p>
<p>Of je nu een ervaren danseres bent of nog nooit een dansschoen hebt aangeraakt: deze les is toegankelijk voor iedereen die nieuwsgierig is naar de kunst van het verleiden en de vrijheid van het bewegen.</p>
DESCRIPTION:<a href='/agenda/2026/7/8/-150-jaar-mata-hari-burlesque-les-dans-dbieb-130863'>/agenda/2026/7/8/-150-jaar-mata-hari-burlesque-les-dans-dbieb-130863</a> || <p><strong><em>Dit evenement is onderdeel van 150 jaar Mata Hari. Dit jubileumjaar vieren we in Leeuwarden met kunst, dans, theater, feestjes, exposities, tours en nog veel meer. Het programma loopt van 23 mei tot en met 7 augustus (Mata Hari’s verjaardag) en is&nbsp;<a href="https://www.visitleeuwarden.com/nl/150jaarmatahari" target="_blank">hier</a>&nbsp;te vinden.</em></strong></p>
<p>Voor Mata Hara was dansen vrijheid - maar precies die onverschrokken vrijheid leidde uiteindelijk tot haar gevangenschap en zelfs executie (het hele verhaal lees je <a href="https://www.visitleeuwarden.com/nl/blogs/mata-hari" target="_blank" rel="noreferrer noopener">hier</a>). Linda van Dansstudio Linda in Leeuwarden leert je hoe dat voelt, je vrij voelen in je eigen lichaam.</p>
<p>Tijdens een burlesqueles ontdek je de kracht van beweging, expressie en een tikkeltje rebellie. In de sfeervolle omgeving van dbieb duiken we in de wereld van de verleiding en zelfvertrouwen. Linda neemt je mee langs de fijne kneepjes van burlesque: van de trotse houding en de iconische <em>walk</em> tot het loslaten van alle onzekerheid. Het gaat niet om perfectie, maar om de onverschrokkenheid die Mata Hari typeerde - zonder de fatale afloop, natuurlijk.</p>
<p>Of je nu een ervaren danseres bent of nog nooit een dansschoen hebt aangeraakt: deze les is toegankelijk voor iedereen die nieuwsgierig is naar de kunst van het verleiden en de vrijheid van het bewegen.</p>
LAST-MODIFIED:20260421T171012Z
LOCATION: Onbekend | Blokhuisplein 40 Leeuwarden
SEQUENCE:0
STATUS:CONFIRMED
SUMMARY:💜150 jaar Mata Hari - Burlesque-les | dans | dbieb
TRANSP:OPAQUE
END:VEVENT
END:VCALENDAR
