BEGIN:VCALENDAR
PRODID:-//PUBBLE//agenda//NL
VERSION:2.0
METHOD:PUBLISH
BEGIN:VEVENT
DTSTART:20260523T000000Z
DTEND:20260807T000000Z
DTSTAMP:20260421T180812Z
UID:c695e76a-4c24-43fe-b9d2-fbfd057140ea
CREATED:20260421T180812Z
NAME:💜 150 jaar Mata Hari- Mata Hari pop-up expo | Stationshal grootleeuwarden.nl
X-WR-CALNAME:💜 150 jaar Mata Hari- Mata Hari pop-up expo | Stationshal
X-ALT-DESC;FMTTYPE=text/html:<a href='/agenda/2026/5/23/-150-jaar-mata-hari-mata-hari-pop-up-expo-stationshal-130861'>/agenda/2026/5/23/-150-jaar-mata-hari-mata-hari-pop-up-expo-stationshal-130861</a> || <p><strong><em>Dit evenement is onderdeel van&nbsp;</em>150 jaar Mata Hari<em>. Dit jubileumjaar vieren we in Leeuwarden met kunst, dans, theater, feestjes, exposities, tours en nog veel meer. Het programma loopt van 23 mei tot en met 7 augustus (Mata Hari’s verjaardag) en is&nbsp;<a href="https://www.visitleeuwarden.com/nl/150jaarmatahari" target="_blank">hier</a>&nbsp;te vinden.</em></strong></p>
<p>Lang, lang geleden, ergens rond 1891, vertrok Margarethe Zelle voorgoed uit Leeuwarden. Ze marcheerde de stationshal door, wachtte een poosje op het perron en pakte uiteindelijk de trein. Ze liet weinig achter: haar moeder was overleden, haar vader was met de noorderzon vertrokken. Maar in Leeuwarden school haar onschuld, haar jeugd, haar gevoel van veiligheid - dat wat ze op weinig andere plekken terug zou vinden.</p>
<p>In diezelfde stationshal vind je nu de pop-up expositie van het Fries Museum - die laat zien wat voor vrouw Mata Hari écht was. Wat een moed ervoor nodig is geweest om de keuzes te maken die zij heeft gemaakt, hoe ze het voor de kiezen kreeg - vanaf het moment dat ze op die ene trein stapte.&nbsp;</p>
<p><em>Deze expositie is samengesteld door het Fries Museum. Sinds 2017, na de grote Mata Hari-expositie, heeft Mata Hari een vast plekje gekregen in het museum. Je vindt hier</em> De levens van Mata Hari<em>. Kijk <a href="https://www.friesmuseum.nl/tentoonstellingen/delevensvanmatahari" target="_blank" rel="noreferrer noopener">hier</a> voor meer informatie over het museum en deze vaste expositie.&nbsp;</em></p>
DESCRIPTION:<a href='/agenda/2026/5/23/-150-jaar-mata-hari-mata-hari-pop-up-expo-stationshal-130861'>/agenda/2026/5/23/-150-jaar-mata-hari-mata-hari-pop-up-expo-stationshal-130861</a> || <p><strong><em>Dit evenement is onderdeel van&nbsp;</em>150 jaar Mata Hari<em>. Dit jubileumjaar vieren we in Leeuwarden met kunst, dans, theater, feestjes, exposities, tours en nog veel meer. Het programma loopt van 23 mei tot en met 7 augustus (Mata Hari’s verjaardag) en is&nbsp;<a href="https://www.visitleeuwarden.com/nl/150jaarmatahari" target="_blank">hier</a>&nbsp;te vinden.</em></strong></p>
<p>Lang, lang geleden, ergens rond 1891, vertrok Margarethe Zelle voorgoed uit Leeuwarden. Ze marcheerde de stationshal door, wachtte een poosje op het perron en pakte uiteindelijk de trein. Ze liet weinig achter: haar moeder was overleden, haar vader was met de noorderzon vertrokken. Maar in Leeuwarden school haar onschuld, haar jeugd, haar gevoel van veiligheid - dat wat ze op weinig andere plekken terug zou vinden.</p>
<p>In diezelfde stationshal vind je nu de pop-up expositie van het Fries Museum - die laat zien wat voor vrouw Mata Hari écht was. Wat een moed ervoor nodig is geweest om de keuzes te maken die zij heeft gemaakt, hoe ze het voor de kiezen kreeg - vanaf het moment dat ze op die ene trein stapte.&nbsp;</p>
<p><em>Deze expositie is samengesteld door het Fries Museum. Sinds 2017, na de grote Mata Hari-expositie, heeft Mata Hari een vast plekje gekregen in het museum. Je vindt hier</em> De levens van Mata Hari<em>. Kijk <a href="https://www.friesmuseum.nl/tentoonstellingen/delevensvanmatahari" target="_blank" rel="noreferrer noopener">hier</a> voor meer informatie over het museum en deze vaste expositie.&nbsp;</em></p>
LAST-MODIFIED:20260421T180812Z
LOCATION: Centraal Station Leeuwarden | Stationsplein 1 Leeuwarden
SEQUENCE:0
STATUS:CONFIRMED
SUMMARY:💜 150 jaar Mata Hari- Mata Hari pop-up expo | Stationshal
TRANSP:OPAQUE
END:VEVENT
END:VCALENDAR
