BEGIN:VCALENDAR
PRODID:-//PUBBLE//agenda//NL
VERSION:2.0
METHOD:PUBLISH
BEGIN:VEVENT
DTSTART:20260523T140000Z
DTEND:20260523T200000Z
DTSTAMP:20260421T180953Z
UID:afcf33dd-bf2a-4654-83a0-d4622bd01f1b
CREATED:20260421T180953Z
NAME:💜 150 jaar Mata Hari - Matattoo Hari | Gratis flash tattoos en live DJ’s grootleeuwarden.nl
X-WR-CALNAME:💜 150 jaar Mata Hari - Matattoo Hari | Gratis flash tattoos en live DJ’s
X-ALT-DESC;FMTTYPE=text/html:<a href='/agenda/2026/5/23/-150-jaar-mata-hari-matattoo-hari-gratis-flash-tattoos-en-live-djs-130860'>/agenda/2026/5/23/-150-jaar-mata-hari-matattoo-hari-gratis-flash-tattoos-en-live-djs-130860</a> || <p><strong><em>Dit evenement is onderdeel van&nbsp;</em>150 jaar Mata Hari<em>. Dit jubileumjaar vieren we in Leeuwarden met kunst, dans, theater, feestjes, exposities, tours en nog veel meer. Het programma loopt van 23 mei tot en met 7 augustus (Mata Hari’s verjaardag) en is&nbsp;<a href="https://www.visitleeuwarden.com/nl/150jaarmatahari" target="_blank">hier</a>&nbsp;te vinden.</em></strong></p>
<p>Vergeet stoffige geschiedenislessen; we gaan voor de naald. Tattoo-artiesten Xenja (Pointbreaktattoo) en Melissa (Hakuna Matattoo) staan klaar om je te voorzien van een <strong>gratis</strong> Mata Hari-flash. Of je nu gaat voor een subtiel symbool van mysterie of een eerbetoon aan haar rebellie, deze exclusieve designs worden met liefde en precisie gezet.&nbsp;</p>
<p>Terwijl de dj’s zorgen voor een scherpe soundtrack, de naalden sereen zoemen en de cervesas ijskoud geserveerd worden, luiden we hiermee het jubileumjaar in. Nog één keer - met z’n allen: hieperderpiep, hoe-</p>
<p><em>Wees er op tijd bij, want voor deze gratis flashes geldt: wie het eerst komt, wie het eerst maalt.&nbsp;</em></p>
DESCRIPTION:<a href='/agenda/2026/5/23/-150-jaar-mata-hari-matattoo-hari-gratis-flash-tattoos-en-live-djs-130860'>/agenda/2026/5/23/-150-jaar-mata-hari-matattoo-hari-gratis-flash-tattoos-en-live-djs-130860</a> || <p><strong><em>Dit evenement is onderdeel van&nbsp;</em>150 jaar Mata Hari<em>. Dit jubileumjaar vieren we in Leeuwarden met kunst, dans, theater, feestjes, exposities, tours en nog veel meer. Het programma loopt van 23 mei tot en met 7 augustus (Mata Hari’s verjaardag) en is&nbsp;<a href="https://www.visitleeuwarden.com/nl/150jaarmatahari" target="_blank">hier</a>&nbsp;te vinden.</em></strong></p>
<p>Vergeet stoffige geschiedenislessen; we gaan voor de naald. Tattoo-artiesten Xenja (Pointbreaktattoo) en Melissa (Hakuna Matattoo) staan klaar om je te voorzien van een <strong>gratis</strong> Mata Hari-flash. Of je nu gaat voor een subtiel symbool van mysterie of een eerbetoon aan haar rebellie, deze exclusieve designs worden met liefde en precisie gezet.&nbsp;</p>
<p>Terwijl de dj’s zorgen voor een scherpe soundtrack, de naalden sereen zoemen en de cervesas ijskoud geserveerd worden, luiden we hiermee het jubileumjaar in. Nog één keer - met z’n allen: hieperderpiep, hoe-</p>
<p><em>Wees er op tijd bij, want voor deze gratis flashes geldt: wie het eerst komt, wie het eerst maalt.&nbsp;</em></p>
LAST-MODIFIED:20260421T180953Z
LOCATION: Neushoorn Leeuwarden | Ruiterskwartier 41 Leeuwarden
SEQUENCE:0
STATUS:CONFIRMED
SUMMARY:💜 150 jaar Mata Hari - Matattoo Hari | Gratis flash tattoos en live DJ’s
TRANSP:OPAQUE
END:VEVENT
END:VCALENDAR
