BEGIN:VCALENDAR
PRODID:-//PUBBLE//agenda//NL
VERSION:2.0
METHOD:PUBLISH
BEGIN:VEVENT
DTSTART:20260523T090000Z
DTEND:20260523T170000Z
DTSTAMP:20260421T181025Z
UID:6eccf31a-e92b-4c1d-bbcb-32dc322bff3c
CREATED:20260421T181025Z
NAME:💜 150 jaar Mata Hari - Kunstexpositie | Leeuwarden Visitor Center grootleeuwarden.nl
X-WR-CALNAME:💜 150 jaar Mata Hari - Kunstexpositie | Leeuwarden Visitor Center
X-ALT-DESC;FMTTYPE=text/html:<a href='/agenda/2026/5/23/-150-jaar-mata-hari-kunstexpositie-leeuwarden-visitor-center-130858'>/agenda/2026/5/23/-150-jaar-mata-hari-kunstexpositie-leeuwarden-visitor-center-130858</a> || <p><strong><em>Dit evenement is onderdeel van&nbsp;</em>150 jaar Mata Hari<em>. Dit jubileumjaar vieren we in Leeuwarden met kunst, dans, theater, feestjes, exposities, tours en nog veel meer. Het programma loopt van 23 mei tot en met 7 augustus (Mata Hari’s verjaardag) en is&nbsp;<a href="https://www.visitleeuwarden.com/nl/150jaarmatahari" target="_blank">hier</a> te vinden.</em></strong></p>
<p>De expositie is te bewonderen in het Visitor Center en bevat werken van&nbsp;<em>Nanna de Jong, Chevanna Smit, Annabel Adema, Joao de Rosario, Marleen Stoelwinder, Wytze Hoogslag, Merel Kuitert </em>en<em> Melda Wibawa.&nbsp;</em></p>
DESCRIPTION:<a href='/agenda/2026/5/23/-150-jaar-mata-hari-kunstexpositie-leeuwarden-visitor-center-130858'>/agenda/2026/5/23/-150-jaar-mata-hari-kunstexpositie-leeuwarden-visitor-center-130858</a> || <p><strong><em>Dit evenement is onderdeel van&nbsp;</em>150 jaar Mata Hari<em>. Dit jubileumjaar vieren we in Leeuwarden met kunst, dans, theater, feestjes, exposities, tours en nog veel meer. Het programma loopt van 23 mei tot en met 7 augustus (Mata Hari’s verjaardag) en is&nbsp;<a href="https://www.visitleeuwarden.com/nl/150jaarmatahari" target="_blank">hier</a> te vinden.</em></strong></p>
<p>De expositie is te bewonderen in het Visitor Center en bevat werken van&nbsp;<em>Nanna de Jong, Chevanna Smit, Annabel Adema, Joao de Rosario, Marleen Stoelwinder, Wytze Hoogslag, Merel Kuitert </em>en<em> Melda Wibawa.&nbsp;</em></p>
LAST-MODIFIED:20260421T181025Z
LOCATION: Onbekend | Heer Ivostraatje 1 Leeuwarden
SEQUENCE:0
STATUS:CONFIRMED
SUMMARY:💜 150 jaar Mata Hari - Kunstexpositie | Leeuwarden Visitor Center
TRANSP:OPAQUE
END:VEVENT
END:VCALENDAR
