BEGIN:VCALENDAR
PRODID:-//PUBBLE//agenda//NL
VERSION:2.0
METHOD:PUBLISH
BEGIN:VEVENT
DTSTART:20260423T181000Z
DTEND:20260423T201500Z
DTSTAMP:20260421T142021Z
UID:6e25e6ac-1a64-446a-a40e-94208a05a7ef
CREATED:20260421T142021Z
NAME:You, Me & Tuscany grootleeuwarden.nl
X-WR-CALNAME:You, Me & Tuscany
X-ALT-DESC;FMTTYPE=text/html:<a href='/agenda/2026/4/23/you-me-amp-tuscany-130854'>/agenda/2026/4/23/you-me-amp-tuscany-130854</a> || <p>Will Packer, de producent van blockbusters als Girls Trip, de Ride Along-franchise en tien andere films die op nummer één binnenkwamen in hun openingsweek in de VS – zoals Night School, This Christmas en Think Like a Man – komt met een heerlijke romantische comedy over één leugentje, een enorme Italiaanse villa en twee mensen die opgeslokt worden door de liefde.</p>
<p>Regisseur</p>
<ul><li>Kat Coiro</li></ul>
<p>Acteurs</p>
<ul><li>Aziza Scott</li><li>Lorenzo de Moor</li><li>Marco Calvani</li><li>Isabella Ferrari</li><li>Nia Vardalos</li><li>Halle Bailey</li><li>Regé-Jean Page</li></ul>
<p>Duur: 105 minuten</p>
<p>Genres</p>
<ul><li>Komedie</li><li>Romantiek</li></ul>
DESCRIPTION:<a href='/agenda/2026/4/23/you-me-amp-tuscany-130854'>/agenda/2026/4/23/you-me-amp-tuscany-130854</a> || <p>Will Packer, de producent van blockbusters als Girls Trip, de Ride Along-franchise en tien andere films die op nummer één binnenkwamen in hun openingsweek in de VS – zoals Night School, This Christmas en Think Like a Man – komt met een heerlijke romantische comedy over één leugentje, een enorme Italiaanse villa en twee mensen die opgeslokt worden door de liefde.</p>
<p>Regisseur</p>
<ul><li>Kat Coiro</li></ul>
<p>Acteurs</p>
<ul><li>Aziza Scott</li><li>Lorenzo de Moor</li><li>Marco Calvani</li><li>Isabella Ferrari</li><li>Nia Vardalos</li><li>Halle Bailey</li><li>Regé-Jean Page</li></ul>
<p>Duur: 105 minuten</p>
<p>Genres</p>
<ul><li>Komedie</li><li>Romantiek</li></ul>
LAST-MODIFIED:20260421T142021Z
LOCATION: Onbekend | Ruiterskwartier 6a Leeuwarden
SEQUENCE:0
STATUS:CONFIRMED
SUMMARY:You, Me & Tuscany
TRANSP:OPAQUE
END:VEVENT
END:VCALENDAR
