BEGIN:VCALENDAR
PRODID:-//PUBBLE//agenda//NL
VERSION:2.0
METHOD:PUBLISH
BEGIN:VEVENT
DTSTART:20260423T134500Z
DTEND:20260423T152600Z
DTSTAMP:20260421T124840Z
UID:14a101d0-01b9-46ac-a733-d2fac53b9f63
CREATED:20260421T124840Z
NAME:Tafiti – dwars door de woestijn grootleeuwarden.nl
X-WR-CALNAME:Tafiti – dwars door de woestijn
X-ALT-DESC;FMTTYPE=text/html:<a href='/agenda/2026/4/23/tafiti-dwars-door-de-woestijn-130803'>/agenda/2026/4/23/tafiti-dwars-door-de-woestijn-130803</a> || <p>Wanneer de jonge stokstaart Tafiti het vrolijke maar onhandige aardvarken Borstel ontmoet, denkt hij dat ze nooit vrienden kunnen worden. Zijn opa heeft hem altijd geleerd dat stokstaartjes bij hun eigen soort blijven. Maar als zijn opa wordt gebeten door een giftige slang moet Tafiti de woestijn in om een mysterieuze blauwe bloem te vinden die hem kan redden. Hij wil die reis alleen maken, maar Borstel is vastbesloten te laten zien dat avonturen samen veel beter zijn.</p>
<p>Regisseur</p>
<ul><li>Nina Wels</li></ul>
<p>Acteurs</p>
<ul><li>Kathleen Renish</li><li>Steve Hudson</li><li>Cosima Henman</li><li>Jeremiah Costello</li></ul>
<p>Duur: 81 minuten</p>
<p>Genres</p>
<ul><li>Animatie</li><li>Kinderfilm</li></ul>
DESCRIPTION:<a href='/agenda/2026/4/23/tafiti-dwars-door-de-woestijn-130803'>/agenda/2026/4/23/tafiti-dwars-door-de-woestijn-130803</a> || <p>Wanneer de jonge stokstaart Tafiti het vrolijke maar onhandige aardvarken Borstel ontmoet, denkt hij dat ze nooit vrienden kunnen worden. Zijn opa heeft hem altijd geleerd dat stokstaartjes bij hun eigen soort blijven. Maar als zijn opa wordt gebeten door een giftige slang moet Tafiti de woestijn in om een mysterieuze blauwe bloem te vinden die hem kan redden. Hij wil die reis alleen maken, maar Borstel is vastbesloten te laten zien dat avonturen samen veel beter zijn.</p>
<p>Regisseur</p>
<ul><li>Nina Wels</li></ul>
<p>Acteurs</p>
<ul><li>Kathleen Renish</li><li>Steve Hudson</li><li>Cosima Henman</li><li>Jeremiah Costello</li></ul>
<p>Duur: 81 minuten</p>
<p>Genres</p>
<ul><li>Animatie</li><li>Kinderfilm</li></ul>
LAST-MODIFIED:20260421T124840Z
LOCATION: Onbekend | Ruiterskwartier 6a Leeuwarden
SEQUENCE:0
STATUS:CONFIRMED
SUMMARY:Tafiti – dwars door de woestijn
TRANSP:OPAQUE
END:VEVENT
END:VCALENDAR
