BEGIN:VCALENDAR
PRODID:-//PUBBLE//agenda//NL
VERSION:2.0
METHOD:PUBLISH
BEGIN:VEVENT
DTSTART:20260424T225000Z
DTEND:20260424T005700Z
DTSTAMP:20260421T152708Z
UID:e696291e-40b6-4f49-8b16-31e914078b04
CREATED:20260421T152708Z
NAME:Ready or Not 2: Here I Come grootleeuwarden.nl
X-WR-CALNAME:Ready or Not 2: Here I Come
X-ALT-DESC;FMTTYPE=text/html:<a href='/agenda/2026/4/25/ready-or-not-2-here-i-come-130802'>/agenda/2026/4/25/ready-or-not-2-here-i-come-130802</a> || <p>Nadat Grace (Samara Weaving) op het nippertje een allesverwoestende aanval van de familie Le Domas heeft overleefd, ontdekt ze dat ze het een nieuwe fase van het dodelijke spel heeft bereikt. Dit keer staat haar lang verloren zus Faith (Kathryn Newton) aan haar zijde. Om te overleven, moet Grace haar zus beschermen en de Hoge Zetel van de Raad veroveren, de macht die over de wereld heerst. Ondertussen jagen vier rivaliserende families op haar om zelf de troon te bemachtigen. Want wie wint, heerst over alles.</p>
<p>Regisseur</p>
<ul><li>Matt Bettinelli-Olpin</li><li>Tyler Gillett</li></ul>
<p>Acteurs</p>
<ul><li>Samara Weaving</li><li>David Cronenberg</li><li>Kathryn Newton</li><li>Elijah Wood</li><li>Sarah Michelle Gellar</li><li>Shawn Hatosy</li><li>Nestor Carbonell</li></ul>
<p>Duur: 107 minuten</p>
<p>Genres</p>
<ul><li>Thriller</li></ul>
DESCRIPTION:<a href='/agenda/2026/4/25/ready-or-not-2-here-i-come-130802'>/agenda/2026/4/25/ready-or-not-2-here-i-come-130802</a> || <p>Nadat Grace (Samara Weaving) op het nippertje een allesverwoestende aanval van de familie Le Domas heeft overleefd, ontdekt ze dat ze het een nieuwe fase van het dodelijke spel heeft bereikt. Dit keer staat haar lang verloren zus Faith (Kathryn Newton) aan haar zijde. Om te overleven, moet Grace haar zus beschermen en de Hoge Zetel van de Raad veroveren, de macht die over de wereld heerst. Ondertussen jagen vier rivaliserende families op haar om zelf de troon te bemachtigen. Want wie wint, heerst over alles.</p>
<p>Regisseur</p>
<ul><li>Matt Bettinelli-Olpin</li><li>Tyler Gillett</li></ul>
<p>Acteurs</p>
<ul><li>Samara Weaving</li><li>David Cronenberg</li><li>Kathryn Newton</li><li>Elijah Wood</li><li>Sarah Michelle Gellar</li><li>Shawn Hatosy</li><li>Nestor Carbonell</li></ul>
<p>Duur: 107 minuten</p>
<p>Genres</p>
<ul><li>Thriller</li></ul>
LAST-MODIFIED:20260421T152708Z
LOCATION: Onbekend | Ruiterskwartier 6a Leeuwarden
SEQUENCE:0
STATUS:CONFIRMED
SUMMARY:Ready or Not 2: Here I Come
TRANSP:OPAQUE
END:VEVENT
END:VCALENDAR
