BEGIN:VCALENDAR
PRODID:-//PUBBLE//agenda//NL
VERSION:2.0
METHOD:PUBLISH
BEGIN:VEVENT
DTSTART:20260427T102000Z
DTEND:20260427T114000Z
DTSTAMP:20260421T170333Z
UID:ca689581-a696-4b8d-8442-f884b0f22463
CREATED:20260421T170333Z
NAME:Mike & Molly vieren feest grootleeuwarden.nl
X-WR-CALNAME:Mike & Molly vieren feest
X-ALT-DESC;FMTTYPE=text/html:<a href='/agenda/2026/4/27/mike-amp-molly-vieren-feest-130783'>/agenda/2026/4/27/mike-amp-molly-vieren-feest-130783</a> || <p>Het is lente op de boerderij en dat betekent dat het tijd is voor de verjaardag van Mike &amp; Molly! Terwijl de bloemetjes bloeien en de vogeltjes fluiten, gaan de vrolijke schaapjes op pad om alles te verzamelen voor een écht verjaardagsfeestje: feestversiering, cadeaus en natuurlijk een heerlijke taart! Onderweg zingen ze vrolijke liedjes, maken ze grapjes en ontdekken ze samen met de kinderen van alles over kleuren, vormen en cijfers. Maar er is één klein probleempje… De brug over de sloot is kapot waardoor Mike en Molly niet verder kunnen. Mike bedenkt de gekste manieren om aan de overkant te komen, met ballonnen, rolschaatsen en zelfs een raket! Zou het lukken alles op tijd te verzamelen voor het verjaardagsfeestje?</p>
<p>Regisseur</p>
<ul><li>Nick Driessen</li></ul>
<p>Acteurs</p>
<ul><li>Eva Jonker</li></ul>
<p>Duur: 60 minuten</p>
<p>Genres</p>
<ul><li>Animatie</li><li>Kinderfilm</li><li>Familiefilm</li></ul>
DESCRIPTION:<a href='/agenda/2026/4/27/mike-amp-molly-vieren-feest-130783'>/agenda/2026/4/27/mike-amp-molly-vieren-feest-130783</a> || <p>Het is lente op de boerderij en dat betekent dat het tijd is voor de verjaardag van Mike &amp; Molly! Terwijl de bloemetjes bloeien en de vogeltjes fluiten, gaan de vrolijke schaapjes op pad om alles te verzamelen voor een écht verjaardagsfeestje: feestversiering, cadeaus en natuurlijk een heerlijke taart! Onderweg zingen ze vrolijke liedjes, maken ze grapjes en ontdekken ze samen met de kinderen van alles over kleuren, vormen en cijfers. Maar er is één klein probleempje… De brug over de sloot is kapot waardoor Mike en Molly niet verder kunnen. Mike bedenkt de gekste manieren om aan de overkant te komen, met ballonnen, rolschaatsen en zelfs een raket! Zou het lukken alles op tijd te verzamelen voor het verjaardagsfeestje?</p>
<p>Regisseur</p>
<ul><li>Nick Driessen</li></ul>
<p>Acteurs</p>
<ul><li>Eva Jonker</li></ul>
<p>Duur: 60 minuten</p>
<p>Genres</p>
<ul><li>Animatie</li><li>Kinderfilm</li><li>Familiefilm</li></ul>
LAST-MODIFIED:20260421T170333Z
LOCATION: Onbekend | Ruiterskwartier 6a Leeuwarden
SEQUENCE:0
STATUS:CONFIRMED
SUMMARY:Mike & Molly vieren feest
TRANSP:OPAQUE
END:VEVENT
END:VCALENDAR
