BEGIN:VCALENDAR
PRODID:-//PUBBLE//agenda//NL
VERSION:2.0
METHOD:PUBLISH
BEGIN:VEVENT
DTSTART:20260427T214000Z
DTEND:20260427T233500Z
DTSTAMP:20260421T165212Z
UID:6ffa7cba-0dc7-46f1-bfb4-944ca5a87248
CREATED:20260421T165212Z
NAME:Exit 8 grootleeuwarden.nl
X-WR-CALNAME:Exit 8
X-ALT-DESC;FMTTYPE=text/html:<a href='/agenda/2026/4/27/exit-8-130738'>/agenda/2026/4/27/exit-8-130738</a> || <p>Wanneer een man een metrostation probeert te verlaten, ontdekt hij dat dit alleen maar zal lukken wanneer hij uitgang 8 kan vinden. Er volgt een mysterieuze puzzel, maar de regels lijken simpel; ziet hij iets vreemds, dan moet hij onmiddellijk omkeren. Ziet hij niets opvallends, dan kan hij verder. Maar één fout, één gemiste afwijking, en hij begint opnieuw. Lukt het hem de oneindige gang te verlaten? Gebaseerd op de gelijknamige game.</p>
<p>Regisseur</p>
<ul><li>Genki Kawamura</li></ul>
<p>Acteurs</p>
<ul><li>Naru Asanuma</li><li>Yamato Kôchi</li><li>Kazunari Ninomiya</li></ul>
<p>Duur: 95 minuten</p>
<p>Genres</p>
<ul><li>Thriller</li></ul>
DESCRIPTION:<a href='/agenda/2026/4/27/exit-8-130738'>/agenda/2026/4/27/exit-8-130738</a> || <p>Wanneer een man een metrostation probeert te verlaten, ontdekt hij dat dit alleen maar zal lukken wanneer hij uitgang 8 kan vinden. Er volgt een mysterieuze puzzel, maar de regels lijken simpel; ziet hij iets vreemds, dan moet hij onmiddellijk omkeren. Ziet hij niets opvallends, dan kan hij verder. Maar één fout, één gemiste afwijking, en hij begint opnieuw. Lukt het hem de oneindige gang te verlaten? Gebaseerd op de gelijknamige game.</p>
<p>Regisseur</p>
<ul><li>Genki Kawamura</li></ul>
<p>Acteurs</p>
<ul><li>Naru Asanuma</li><li>Yamato Kôchi</li><li>Kazunari Ninomiya</li></ul>
<p>Duur: 95 minuten</p>
<p>Genres</p>
<ul><li>Thriller</li></ul>
LAST-MODIFIED:20260421T165212Z
LOCATION: Onbekend | Ruiterskwartier 6a Leeuwarden
SEQUENCE:0
STATUS:CONFIRMED
SUMMARY:Exit 8
TRANSP:OPAQUE
END:VEVENT
END:VCALENDAR
