BEGIN:VCALENDAR
PRODID:-//PUBBLE//agenda//NL
VERSION:2.0
METHOD:PUBLISH
BEGIN:VEVENT
DTSTART:20260428T194500Z
DTEND:20260428T213800Z
DTSTAMP:20260421T152654Z
UID:98939f4c-0f56-4fd3-bd50-f4b03e8d37b0
CREATED:20260421T152654Z
NAME:Champagne grootleeuwarden.nl
X-WR-CALNAME:Champagne
X-ALT-DESC;FMTTYPE=text/html:<a href='/agenda/2026/4/28/champagne-130698'>/agenda/2026/4/28/champagne-130698</a> || <p>Wanneer Maarten (Leo Alkemade) te horen krijgt dat zijn vader Hans (Huub Stapel) ongeneeslijk ziek is, besluit hij hem mee te nemen naar de champagnestreek. Hoogtepunt van de trip is het treintje dat door de wijnkelders van Epernay rijdt. Een einddoel dat voor Hans, die graag van een drankje geniet, een soort reis naar de hemel is. Maartens vrouw Loes (Jennifer Hoffman) en zijn moeder Sophie (Beppie Melissen) zwaaien de twee mannen uit. Ze vertrekken vol goede moed, om er na twee straten achter te komen dat zij waarschijnlijk de minst geschikte vader en zoon ooit zijn voor deze bonding-trip. Terwijl de gesprekken in de auto stroef verlopen, vinden ze elkaar vooral tijdens de culinaire uitspattingen in lokale restaurants. Hun oude patronen blijven hen achtervolgen, maar juist de kleine, onverwachte momenten brengen de twee dichter bij elkaar.</p>
<p>Regisseur</p>
<ul><li>Tim Kamps</li></ul>
<p>Acteurs</p>
<ul><li>Beppie Melissen</li><li>Jennifer Hoffman</li><li>Leo Alkemade</li><li>Huub Stapel</li><li>Guus Meeuwis</li></ul>
<p>Duur: 93 minuten</p>
<p>Genres</p>
<ul><li>Komedie</li><li>Drama</li></ul>
DESCRIPTION:<a href='/agenda/2026/4/28/champagne-130698'>/agenda/2026/4/28/champagne-130698</a> || <p>Wanneer Maarten (Leo Alkemade) te horen krijgt dat zijn vader Hans (Huub Stapel) ongeneeslijk ziek is, besluit hij hem mee te nemen naar de champagnestreek. Hoogtepunt van de trip is het treintje dat door de wijnkelders van Epernay rijdt. Een einddoel dat voor Hans, die graag van een drankje geniet, een soort reis naar de hemel is. Maartens vrouw Loes (Jennifer Hoffman) en zijn moeder Sophie (Beppie Melissen) zwaaien de twee mannen uit. Ze vertrekken vol goede moed, om er na twee straten achter te komen dat zij waarschijnlijk de minst geschikte vader en zoon ooit zijn voor deze bonding-trip. Terwijl de gesprekken in de auto stroef verlopen, vinden ze elkaar vooral tijdens de culinaire uitspattingen in lokale restaurants. Hun oude patronen blijven hen achtervolgen, maar juist de kleine, onverwachte momenten brengen de twee dichter bij elkaar.</p>
<p>Regisseur</p>
<ul><li>Tim Kamps</li></ul>
<p>Acteurs</p>
<ul><li>Beppie Melissen</li><li>Jennifer Hoffman</li><li>Leo Alkemade</li><li>Huub Stapel</li><li>Guus Meeuwis</li></ul>
<p>Duur: 93 minuten</p>
<p>Genres</p>
<ul><li>Komedie</li><li>Drama</li></ul>
LAST-MODIFIED:20260421T152654Z
LOCATION: Onbekend | Ruiterskwartier 6a Leeuwarden
SEQUENCE:0
STATUS:CONFIRMED
SUMMARY:Champagne
TRANSP:OPAQUE
END:VEVENT
END:VCALENDAR
