BEGIN:VCALENDAR
PRODID:-//PUBBLE//agenda//NL
VERSION:2.0
METHOD:PUBLISH
BEGIN:VEVENT
DTSTART:20260427T101500Z
DTEND:20260427T112900Z
DTSTAMP:20260421T172333Z
UID:11f11ecd-79c8-452f-a4ae-01316ea174d7
CREATED:20260421T172333Z
NAME:Bluey in de Bios: Spelen met je vriendjes grootleeuwarden.nl
X-WR-CALNAME:Bluey in de Bios: Spelen met je vriendjes
X-ALT-DESC;FMTTYPE=text/html:<a href='/agenda/2026/4/27/bluey-in-de-bios-spelen-met-je-vriendjes-130691'>/agenda/2026/4/27/bluey-in-de-bios-spelen-met-je-vriendjes-130691</a> || <p>Bluey in de Bios: Spelen met je vriendjes – Verzameling is een uur plezier met Bluey en haar vriendjes. Er worden acht afleveringen uit alle drie seizoenen van de serie getoond, waarin creativiteit en verbeelding tot leven komen! De compilatie toont een aantal van Bluey’s favoriete spelletjes zoals Schaduwland en Inktvisje, en belicht bijzondere momenten van vriendschap in afleveringen als Circusje en Glijden – alles met veel plezier en gelach.</p>
<p>Duur: 54 minuten</p>
<p>Genres</p>
<ul><li>Animatie</li><li>Kinderfilm</li></ul>
DESCRIPTION:<a href='/agenda/2026/4/27/bluey-in-de-bios-spelen-met-je-vriendjes-130691'>/agenda/2026/4/27/bluey-in-de-bios-spelen-met-je-vriendjes-130691</a> || <p>Bluey in de Bios: Spelen met je vriendjes – Verzameling is een uur plezier met Bluey en haar vriendjes. Er worden acht afleveringen uit alle drie seizoenen van de serie getoond, waarin creativiteit en verbeelding tot leven komen! De compilatie toont een aantal van Bluey’s favoriete spelletjes zoals Schaduwland en Inktvisje, en belicht bijzondere momenten van vriendschap in afleveringen als Circusje en Glijden – alles met veel plezier en gelach.</p>
<p>Duur: 54 minuten</p>
<p>Genres</p>
<ul><li>Animatie</li><li>Kinderfilm</li></ul>
LAST-MODIFIED:20260421T172333Z
LOCATION: Onbekend | Ruiterskwartier 6a Leeuwarden
SEQUENCE:0
STATUS:CONFIRMED
SUMMARY:Bluey in de Bios: Spelen met je vriendjes
TRANSP:OPAQUE
END:VEVENT
END:VCALENDAR
