BEGIN:VCALENDAR
PRODID:-//PUBBLE//agenda//NL
VERSION:2.0
METHOD:PUBLISH
BEGIN:VEVENT
DTSTART:20260421T215000Z
DTEND:20260421T234500Z
DTSTAMP:20260421T124835Z
UID:66d7db54-4415-401d-8f84-37939e1abaac
CREATED:20260421T124835Z
NAME:They Will Kill You grootleeuwarden.nl
X-WR-CALNAME:They Will Kill You
X-ALT-DESC;FMTTYPE=text/html:<a href='/agenda/2026/4/21/they-will-kill-you-130455'>/agenda/2026/4/21/they-will-kill-you-130455</a> || <p>They Will Kill You is een bloederige en spectaculaire horror-actiekomedie waarin een jonge vrouw een nacht moet zien te overleven in de Virgil, het mysterieuze en levensgevaarlijke hoofdkwartier van een demonische sekte, als ze niet hun volgende offer wil worden. Het wordt een ongekend gevecht vol epische ‘kills’ en heerlijke zwarte humor.<br /><br />De hoofdrollen in “They Will Kill You” worden vertolkt door Zazie Beetz, Myha’La, Paterson Joseph, Tom Felton, Heather Graham en Patricia Arquette. De film is geregisseerd door Kirill Sokolov en ook door hem geschreven samen met Alex Litvak. De producenten zijn Andy Muschietti, Barbara Muschietti en Dan Kagan, met als uitvoerend producenten Russell Ackerman, John Schoenfelder, Carl Hampe, Litvak en Sokolov. Sokolov werd achter de camera bijgestaan door director of photography Isaac Bauman, production designer Jeremy Reed, editor Luke Doolan, kostuumontwerper Neil McClean en visual effects supervisor Marc Smith. De muziek is van Carlos Rafael Rivera, met Andrea von Foerster als music supervisor. Richard Delia is de casting director. New Line Cinema en Nocturna presenteren, in samenwerking met Domain Entertainment, They Will Kill You. De film wordt gedistribueerd door Warner Bros. Pictures.</p>
<p>Regisseur</p>
<ul><li>Kirill Sokolov</li></ul>
<p>Acteurs</p>
<ul><li>Zazie Beetz</li><li>Tom Felton</li><li>Myha’la</li><li>Patricia Arquette</li><li>Heather Graham</li></ul>
<p>Duur: 95 minuten</p>
<p>Genres</p>
<ul><li>Komedie</li><li>Horror</li><li>Actie</li></ul>
DESCRIPTION:<a href='/agenda/2026/4/21/they-will-kill-you-130455'>/agenda/2026/4/21/they-will-kill-you-130455</a> || <p>They Will Kill You is een bloederige en spectaculaire horror-actiekomedie waarin een jonge vrouw een nacht moet zien te overleven in de Virgil, het mysterieuze en levensgevaarlijke hoofdkwartier van een demonische sekte, als ze niet hun volgende offer wil worden. Het wordt een ongekend gevecht vol epische ‘kills’ en heerlijke zwarte humor.<br /><br />De hoofdrollen in “They Will Kill You” worden vertolkt door Zazie Beetz, Myha’La, Paterson Joseph, Tom Felton, Heather Graham en Patricia Arquette. De film is geregisseerd door Kirill Sokolov en ook door hem geschreven samen met Alex Litvak. De producenten zijn Andy Muschietti, Barbara Muschietti en Dan Kagan, met als uitvoerend producenten Russell Ackerman, John Schoenfelder, Carl Hampe, Litvak en Sokolov. Sokolov werd achter de camera bijgestaan door director of photography Isaac Bauman, production designer Jeremy Reed, editor Luke Doolan, kostuumontwerper Neil McClean en visual effects supervisor Marc Smith. De muziek is van Carlos Rafael Rivera, met Andrea von Foerster als music supervisor. Richard Delia is de casting director. New Line Cinema en Nocturna presenteren, in samenwerking met Domain Entertainment, They Will Kill You. De film wordt gedistribueerd door Warner Bros. Pictures.</p>
<p>Regisseur</p>
<ul><li>Kirill Sokolov</li></ul>
<p>Acteurs</p>
<ul><li>Zazie Beetz</li><li>Tom Felton</li><li>Myha’la</li><li>Patricia Arquette</li><li>Heather Graham</li></ul>
<p>Duur: 95 minuten</p>
<p>Genres</p>
<ul><li>Komedie</li><li>Horror</li><li>Actie</li></ul>
LAST-MODIFIED:20260421T124835Z
LOCATION: Onbekend | Ruiterskwartier 6a Leeuwarden
SEQUENCE:0
STATUS:CONFIRMED
SUMMARY:They Will Kill You
TRANSP:OPAQUE
END:VEVENT
END:VCALENDAR
