BEGIN:VCALENDAR
PRODID:-//PUBBLE//agenda//NL
VERSION:2.0
METHOD:PUBLISH
BEGIN:VEVENT
DTSTART:20270116T191500Z
DTEND:20270116T201500Z
DTSTAMP:20260421T182318Z
UID:b046c689-4f92-48fb-abcb-de888fd81980
CREATED:20260421T182318Z
NAME:Richard Groenendijk grootleeuwarden.nl
X-WR-CALNAME:Richard Groenendijk
X-ALT-DESC;FMTTYPE=text/html:<a href='/agenda/2027/1/16/richard-groenendijk-130378'>/agenda/2027/1/16/richard-groenendijk-130378</a> || <p><strong>Na een seizoen als Edna Turnblad in de musical <em>Hairspray</em> staat Richard Groenendijk weer solo op het toneel. In zijn nieuwe voorstelling <em>Gelukkig heb je mij nog</em> neemt hij je mee in zijn leven. Dat leven zit vol verhalen, humor en onverwachte wendingen</strong>.</p>
<p>Groenendijk is al jaren een vaste naam in de Nederlandse theaters. Zijn vorige voorstelling <em>Voor iedereen beter</em> werd goed ontvangen door publiek en pers. Voor dat programma kreeg hij de Poelifinario, de prijs voor het beste cabaretprogramma van het seizoen. Het was de tweede keer dat hij deze prijs ontving.</p>
<p>In recensies wordt Groenendijk vaak omschreven als een veelzijdige cabaretier. Hij kan grof zijn, maar ook subtiel. Hij is scherp, maar ook gevoelig. Zijn grappen zijn soms stevig, maar er is altijd ruimte voor warmte en herkenning. Hij weet het publiek aan het lachen te maken, terwijl hij ook persoonlijke verhalen en gedachten deelt.</p>
<p>Ook in <em>Gelukkig heb je mij nog</em> laat hij deze verschillende kanten zien. Hij vertelt openhartig over zijn leven en alles wat daarbij komt kijken. Soms is dat uitbundig en grappig, soms juist rustig en eerlijk. Het ene moment stapelen de grappen zich op, het volgende moment staat hij stil bij kleine en herkenbare momenten.</p>
<p>Volgens een recensent van zijn vorige programma “gingen alle remmen los en golfde de lach door de zaal”. Die energie en dat plezier neemt hij ook mee naar deze nieuwe voorstelling.</p>
<p>Met zijn humor, timing en verhalen weet Richard Groenendijk het publiek steeds weer mee te nemen. In <em>Gelukkig heb je mij nog</em> laat hij zien hoe kleurrijk het leven kan zijn — en dat er altijd wel iets gebeurt waar je om kunt lachen.</p>
DESCRIPTION:<a href='/agenda/2027/1/16/richard-groenendijk-130378'>/agenda/2027/1/16/richard-groenendijk-130378</a> || <p><strong>Na een seizoen als Edna Turnblad in de musical <em>Hairspray</em> staat Richard Groenendijk weer solo op het toneel. In zijn nieuwe voorstelling <em>Gelukkig heb je mij nog</em> neemt hij je mee in zijn leven. Dat leven zit vol verhalen, humor en onverwachte wendingen</strong>.</p>
<p>Groenendijk is al jaren een vaste naam in de Nederlandse theaters. Zijn vorige voorstelling <em>Voor iedereen beter</em> werd goed ontvangen door publiek en pers. Voor dat programma kreeg hij de Poelifinario, de prijs voor het beste cabaretprogramma van het seizoen. Het was de tweede keer dat hij deze prijs ontving.</p>
<p>In recensies wordt Groenendijk vaak omschreven als een veelzijdige cabaretier. Hij kan grof zijn, maar ook subtiel. Hij is scherp, maar ook gevoelig. Zijn grappen zijn soms stevig, maar er is altijd ruimte voor warmte en herkenning. Hij weet het publiek aan het lachen te maken, terwijl hij ook persoonlijke verhalen en gedachten deelt.</p>
<p>Ook in <em>Gelukkig heb je mij nog</em> laat hij deze verschillende kanten zien. Hij vertelt openhartig over zijn leven en alles wat daarbij komt kijken. Soms is dat uitbundig en grappig, soms juist rustig en eerlijk. Het ene moment stapelen de grappen zich op, het volgende moment staat hij stil bij kleine en herkenbare momenten.</p>
<p>Volgens een recensent van zijn vorige programma “gingen alle remmen los en golfde de lach door de zaal”. Die energie en dat plezier neemt hij ook mee naar deze nieuwe voorstelling.</p>
<p>Met zijn humor, timing en verhalen weet Richard Groenendijk het publiek steeds weer mee te nemen. In <em>Gelukkig heb je mij nog</em> laat hij zien hoe kleurrijk het leven kan zijn — en dat er altijd wel iets gebeurt waar je om kunt lachen.</p>
LAST-MODIFIED:20260421T182318Z
LOCATION: Stadsschouwburg De Harmonie | Ruiterskwartier 4 Leeuwarden
SEQUENCE:0
STATUS:CONFIRMED
SUMMARY:Richard Groenendijk
TRANSP:OPAQUE
END:VEVENT
END:VCALENDAR
