BEGIN:VCALENDAR
PRODID:-//PUBBLE//agenda//NL
VERSION:2.0
METHOD:PUBLISH
BEGIN:VEVENT
DTSTART:20270217T191500Z
DTEND:20270217T201500Z
DTSTAMP:20260421T182455Z
UID:08b40ca0-af35-4823-83dc-06b001e95cec
CREATED:20260421T182455Z
NAME:Patrick Laureij grootleeuwarden.nl
X-WR-CALNAME:Patrick Laureij
X-ALT-DESC;FMTTYPE=text/html:<a href='/agenda/2027/2/17/patrick-laureij-130353'>/agenda/2027/2/17/patrick-laureij-130353</a> || <p><strong>Welkom bij de reprise oftewel de tweede kans om bij mijn vierde show te zijn. De recensies waren lovend, maar waarom dat gebruiken om jullie te overtuigen? Volg je eigen intuïtie en laat die dat voor je doen.</strong></p>


<p><strong>Smart Secure Tickets</strong>
Voor deze voorstelling zijn alleen Smart Secure Tickets beschikbaar. Dit zijn&nbsp;extra veilige e-tickets die niet overdraagbaar zijn en dus ongewenste doorverkoop tegengaan. Met Smart Secure Tickets kunnen we voorkomen dat kaarten worden doorverkocht. Deze tickets ontvang je niet per e-mail of per post, maar zijn te vinden in de Ticketmatic App op je smartphone. Wij raden je dan ook aan om de Ticketmatic App te downloaden voor je kaarten gaat aanschaffen.</p>
<ul>
	<li>Jouw Smart Secure Tickets zijn een QR-code in de Ticketmatic App. Deze&nbsp;wijzigt continu, dus&nbsp;een kopie van deze QR-code geeft geen toegang tot de voorstelling.</li>
	<li>De Smart Secure Tickets zijn persoonsgebonden en niet door te geven.</li>
	<li>Je vindt jouw Smart Secure Tickets binnen 24 uur na betaling in de Ticketmatic App.</li>
	<li>Ben je nog niet in het bezit van de Ticketmatic App, download deze dan in de <a href="https://apps.apple.com/us/app/ticketmatic/id1277665479?ls=1" target="_blank">AppStore</a> of de <a href="https://play.google.com/store/apps/details?id=com.ticketmatic&amp;pcampaignid=MKT-Other-global-all-co-prtnr-py-PartBadge-Mar2515-1&amp;pli=1" target="_blank">Playstore</a>.</li>
</ul>
DESCRIPTION:<a href='/agenda/2027/2/17/patrick-laureij-130353'>/agenda/2027/2/17/patrick-laureij-130353</a> || <p><strong>Welkom bij de reprise oftewel de tweede kans om bij mijn vierde show te zijn. De recensies waren lovend, maar waarom dat gebruiken om jullie te overtuigen? Volg je eigen intuïtie en laat die dat voor je doen.</strong></p>


<p><strong>Smart Secure Tickets</strong>
Voor deze voorstelling zijn alleen Smart Secure Tickets beschikbaar. Dit zijn&nbsp;extra veilige e-tickets die niet overdraagbaar zijn en dus ongewenste doorverkoop tegengaan. Met Smart Secure Tickets kunnen we voorkomen dat kaarten worden doorverkocht. Deze tickets ontvang je niet per e-mail of per post, maar zijn te vinden in de Ticketmatic App op je smartphone. Wij raden je dan ook aan om de Ticketmatic App te downloaden voor je kaarten gaat aanschaffen.</p>
<ul>
	<li>Jouw Smart Secure Tickets zijn een QR-code in de Ticketmatic App. Deze&nbsp;wijzigt continu, dus&nbsp;een kopie van deze QR-code geeft geen toegang tot de voorstelling.</li>
	<li>De Smart Secure Tickets zijn persoonsgebonden en niet door te geven.</li>
	<li>Je vindt jouw Smart Secure Tickets binnen 24 uur na betaling in de Ticketmatic App.</li>
	<li>Ben je nog niet in het bezit van de Ticketmatic App, download deze dan in de <a href="https://apps.apple.com/us/app/ticketmatic/id1277665479?ls=1" target="_blank">AppStore</a> of de <a href="https://play.google.com/store/apps/details?id=com.ticketmatic&amp;pcampaignid=MKT-Other-global-all-co-prtnr-py-PartBadge-Mar2515-1&amp;pli=1" target="_blank">Playstore</a>.</li>
</ul>
LAST-MODIFIED:20260421T182455Z
LOCATION: Stadsschouwburg De Harmonie | Ruiterskwartier 4 Leeuwarden
SEQUENCE:0
STATUS:CONFIRMED
SUMMARY:Patrick Laureij
TRANSP:OPAQUE
END:VEVENT
END:VCALENDAR
