BEGIN:VCALENDAR
PRODID:-//PUBBLE//agenda//NL
VERSION:2.0
METHOD:PUBLISH
BEGIN:VEVENT
DTSTART:20260421T183000Z
DTEND:20260421T205200Z
DTSTAMP:20260421T124541Z
UID:979bc7ea-8641-4d00-8ab6-14718fc634f9
CREATED:20260421T124541Z
NAME:Ocean’s Thirteen grootleeuwarden.nl
X-WR-CALNAME:Ocean’s Thirteen
X-ALT-DESC;FMTTYPE=text/html:<a href='/agenda/2026/4/21/oceans-thirteen-130351'>/agenda/2026/4/21/oceans-thirteen-130351</a> || <p>Wanneer de meedogenloze casino eigenaar Willy Bank een van Danny Ocean’s oude vrienden belazert, roept Danny de troepen weer bij elkaar. Deze klus is hun meest ambitieuze en gevaarlijke overval ooit.</p>
<p>Regisseur</p>
<ul><li>Steven Soderbergh</li></ul>
<p>Acteurs</p>
<ul><li>Bernie Mac</li><li>Matt Damon</li><li>George Clooney</li><li>Don Cheadle</li><li>Al Pacino</li><li>Brad Pitt</li><li>Andy Garcia</li></ul>
<p>Duur: 122 minuten</p>
<p>Genres</p>
<ul><li>Thriller</li><li>Misdaad</li></ul>
DESCRIPTION:<a href='/agenda/2026/4/21/oceans-thirteen-130351'>/agenda/2026/4/21/oceans-thirteen-130351</a> || <p>Wanneer de meedogenloze casino eigenaar Willy Bank een van Danny Ocean’s oude vrienden belazert, roept Danny de troepen weer bij elkaar. Deze klus is hun meest ambitieuze en gevaarlijke overval ooit.</p>
<p>Regisseur</p>
<ul><li>Steven Soderbergh</li></ul>
<p>Acteurs</p>
<ul><li>Bernie Mac</li><li>Matt Damon</li><li>George Clooney</li><li>Don Cheadle</li><li>Al Pacino</li><li>Brad Pitt</li><li>Andy Garcia</li></ul>
<p>Duur: 122 minuten</p>
<p>Genres</p>
<ul><li>Thriller</li><li>Misdaad</li></ul>
LAST-MODIFIED:20260421T124541Z
LOCATION: Onbekend | Ruiterskwartier 6a Leeuwarden
SEQUENCE:0
STATUS:CONFIRMED
SUMMARY:Ocean’s Thirteen
TRANSP:OPAQUE
END:VEVENT
END:VCALENDAR
