BEGIN:VCALENDAR
PRODID:-//PUBBLE//agenda//NL
VERSION:2.0
METHOD:PUBLISH
BEGIN:VEVENT
DTSTART:20270123T191500Z
DTEND:20270123T201500Z
DTSTAMP:20260421T181934Z
UID:7b8d1375-a26b-4e08-b52f-5b10c49ad207
CREATED:20260421T181934Z
NAME:NITS grootleeuwarden.nl
X-WR-CALNAME:NITS
X-ALT-DESC;FMTTYPE=text/html:<a href='/agenda/2027/1/23/nits-130341'>/agenda/2027/1/23/nits-130341</a> || <p><strong>NITS werkt al meer dan 50 jaar aan een eigenzinnig en rijk oeuvre. Met meer dan 35 albums blijft de band zich ontwikkelen. Ook nu zit NITS niet stil: er wordt gewerkt aan nieuw materiaal en de band is weer op tournee.</strong></p>
<p>Een concert van NITS is nooit hetzelfde. De band laat veel ruimte voor improvisatie en de arrangementen veranderen steeds. Toch blijft het geluid direct herkenbaar: helder, gelaagd en vol melancholie, schoonheid en intensiteit.</p>
<p>Tijdens deze avond hoor je een setlijst met verrassende keuzes uit het grote oeuvre van de band. Natuurlijk ontbreken bekende nummers als Nescio, JOS Days en In The Dutch Mountains niet.</p>
<p>Ook in 2026 krijgt NITS veel waardering. Written in Music noemt het optreden een “muzikale schatkamer”. Eindhovens Dagblad schreef: “We zijn geen schaduw van ons verleden”. En Pinguin Radio prees de band als “in bloedvorm” en noemt NITS een groep die blijft spelen met de grenzen van het eigen geluid.</p>
<p>NITS laat zien dat de band nog altijd vooruitkijkt. Dat maakt elk concert fris, spannend en bijzonder om mee te maken.</p>
DESCRIPTION:<a href='/agenda/2027/1/23/nits-130341'>/agenda/2027/1/23/nits-130341</a> || <p><strong>NITS werkt al meer dan 50 jaar aan een eigenzinnig en rijk oeuvre. Met meer dan 35 albums blijft de band zich ontwikkelen. Ook nu zit NITS niet stil: er wordt gewerkt aan nieuw materiaal en de band is weer op tournee.</strong></p>
<p>Een concert van NITS is nooit hetzelfde. De band laat veel ruimte voor improvisatie en de arrangementen veranderen steeds. Toch blijft het geluid direct herkenbaar: helder, gelaagd en vol melancholie, schoonheid en intensiteit.</p>
<p>Tijdens deze avond hoor je een setlijst met verrassende keuzes uit het grote oeuvre van de band. Natuurlijk ontbreken bekende nummers als Nescio, JOS Days en In The Dutch Mountains niet.</p>
<p>Ook in 2026 krijgt NITS veel waardering. Written in Music noemt het optreden een “muzikale schatkamer”. Eindhovens Dagblad schreef: “We zijn geen schaduw van ons verleden”. En Pinguin Radio prees de band als “in bloedvorm” en noemt NITS een groep die blijft spelen met de grenzen van het eigen geluid.</p>
<p>NITS laat zien dat de band nog altijd vooruitkijkt. Dat maakt elk concert fris, spannend en bijzonder om mee te maken.</p>
LAST-MODIFIED:20260421T181934Z
LOCATION: Stadsschouwburg De Harmonie | Ruiterskwartier 4 Leeuwarden
SEQUENCE:0
STATUS:CONFIRMED
SUMMARY:NITS
TRANSP:OPAQUE
END:VEVENT
END:VCALENDAR
