BEGIN:VCALENDAR
PRODID:-//PUBBLE//agenda//NL
VERSION:2.0
METHOD:PUBLISH
BEGIN:VEVENT
DTSTART:20261007T193000Z
DTEND:20261007T203000Z
DTSTAMP:20260421T193858Z
UID:77da65c5-f809-4006-bbbb-81fecfd16dd1
CREATED:20260421T193858Z
NAME:Nederlandse Reisopera grootleeuwarden.nl
X-WR-CALNAME:Nederlandse Reisopera
X-ALT-DESC;FMTTYPE=text/html:<a href='/agenda/2026/10/7/nederlandse-reisopera-130339'>/agenda/2026/10/7/nederlandse-reisopera-130339</a> || <p>De Nederlandse Reisopera presenteert, samen met Club Guy &amp; Roni en het Noord Nederlands Orkest, de opera Waiting for the Barbarians - een enorme theatrale explosie waarbij zangers, dansers en een gigantisch orkest dit late meesterwerk van de belangrijkste levende klassieke componist, Philip Glass, uitvoeren als aftrap voor de internationale viering van ‘Glass at 90’. &nbsp;<br />
Gebaseerd op de met een Nobelprijs bekroonde roman van J.M. Coetzee, focust Waiting for the Barbarians zich op het essentiële thema van onze tijd: ‘wij’ en ‘zij’. Met o.a. Nora Monsecour en de dansers van Poetics Disaster (Club Guy &amp; Roni), het koor van Consensus Vocalis en een internationale topcast, waaronder de Zweedse ster-mezzosopraan Charlotte Hellekant en de Nederlandse sopraan Lilian Farahani, belooft dit overrompelende theaterervaring te worden die nog lang zal beklijven.&nbsp;</p>
DESCRIPTION:<a href='/agenda/2026/10/7/nederlandse-reisopera-130339'>/agenda/2026/10/7/nederlandse-reisopera-130339</a> || <p>De Nederlandse Reisopera presenteert, samen met Club Guy &amp; Roni en het Noord Nederlands Orkest, de opera Waiting for the Barbarians - een enorme theatrale explosie waarbij zangers, dansers en een gigantisch orkest dit late meesterwerk van de belangrijkste levende klassieke componist, Philip Glass, uitvoeren als aftrap voor de internationale viering van ‘Glass at 90’. &nbsp;<br />
Gebaseerd op de met een Nobelprijs bekroonde roman van J.M. Coetzee, focust Waiting for the Barbarians zich op het essentiële thema van onze tijd: ‘wij’ en ‘zij’. Met o.a. Nora Monsecour en de dansers van Poetics Disaster (Club Guy &amp; Roni), het koor van Consensus Vocalis en een internationale topcast, waaronder de Zweedse ster-mezzosopraan Charlotte Hellekant en de Nederlandse sopraan Lilian Farahani, belooft dit overrompelende theaterervaring te worden die nog lang zal beklijven.&nbsp;</p>
LAST-MODIFIED:20260421T193858Z
LOCATION: Stadsschouwburg De Harmonie | Ruiterskwartier 4 Leeuwarden
SEQUENCE:0
STATUS:CONFIRMED
SUMMARY:Nederlandse Reisopera
TRANSP:OPAQUE
END:VEVENT
END:VCALENDAR
