BEGIN:VCALENDAR
PRODID:-//PUBBLE//agenda//NL
VERSION:2.0
METHOD:PUBLISH
BEGIN:VEVENT
DTSTART:20260428T200000Z
DTEND:20260428T222000Z
DTSTAMP:20260421T152826Z
UID:8ccc3ee2-a328-4cfb-b992-2559b4b4b04e
CREATED:20260421T152826Z
NAME:Mystery Classic grootleeuwarden.nl
X-WR-CALNAME:Mystery Classic
X-ALT-DESC;FMTTYPE=text/html:<a href='/agenda/2026/4/28/mystery-classic-130335'>/agenda/2026/4/28/mystery-classic-130335</a> || <p>Elke laatste dinsdag van de maand kun je een legendarische klassieker herbeleven op het grote doek. Welke? Dat blijft een raadsel tot de lichten uitgaan en de film begint. Maar één ding is zeker: deze films verdienen altijd een plekje op het grote doek.</p>
<p>Duur: 120 minuten</p>
<p>Genres</p>
<ul><li>Nog niet bekend</li></ul>
DESCRIPTION:<a href='/agenda/2026/4/28/mystery-classic-130335'>/agenda/2026/4/28/mystery-classic-130335</a> || <p>Elke laatste dinsdag van de maand kun je een legendarische klassieker herbeleven op het grote doek. Welke? Dat blijft een raadsel tot de lichten uitgaan en de film begint. Maar één ding is zeker: deze films verdienen altijd een plekje op het grote doek.</p>
<p>Duur: 120 minuten</p>
<p>Genres</p>
<ul><li>Nog niet bekend</li></ul>
LAST-MODIFIED:20260421T152826Z
LOCATION: Onbekend | Ruiterskwartier 6a Leeuwarden
SEQUENCE:0
STATUS:CONFIRMED
SUMMARY:Mystery Classic
TRANSP:OPAQUE
END:VEVENT
END:VCALENDAR
