BEGIN:VCALENDAR
PRODID:-//PUBBLE//agenda//NL
VERSION:2.0
METHOD:PUBLISH
BEGIN:VEVENT
DTSTART:20260417T113000Z
DTEND:20260417T125000Z
DTSTAMP:20260421T092607Z
UID:adcd9434-adab-4423-ab03-071daf062e1f
CREATED:20260421T092607Z
NAME:Mike & Molly vieren feest grootleeuwarden.nl
X-WR-CALNAME:Mike & Molly vieren feest
X-ALT-DESC;FMTTYPE=text/html:<a href='/agenda/2026/4/17/mike-amp-molly-vieren-feest-130327'>/agenda/2026/4/17/mike-amp-molly-vieren-feest-130327</a> || <p>Het is lente op de boerderij en dat betekent dat het tijd is voor de verjaardag van Mike &amp; Molly! Terwijl de bloemetjes bloeien en de vogeltjes fluiten, gaan de vrolijke schaapjes op pad om alles te verzamelen voor een écht verjaardagsfeestje: feestversiering, cadeaus en natuurlijk een heerlijke taart! Onderweg zingen ze vrolijke liedjes, maken ze grapjes en ontdekken ze samen met de kinderen van alles over kleuren, vormen en cijfers. Maar er is één klein probleempje… De brug over de sloot is kapot waardoor Mike en Molly niet verder kunnen. Mike bedenkt de gekste manieren om aan de overkant te komen, met ballonnen, rolschaatsen en zelfs een raket! Zou het lukken alles op tijd te verzamelen voor het verjaardagsfeestje?</p>
<p>Regisseur</p>
<ul><li>Nick Driessen</li></ul>
<p>Acteurs</p>
<ul><li>Eva Jonker</li></ul>
<p>Duur: 60 minuten</p>
<p>Genres</p>
<ul><li>Animatie</li><li>Kinderfilm</li><li>Familiefilm</li></ul>
DESCRIPTION:<a href='/agenda/2026/4/17/mike-amp-molly-vieren-feest-130327'>/agenda/2026/4/17/mike-amp-molly-vieren-feest-130327</a> || <p>Het is lente op de boerderij en dat betekent dat het tijd is voor de verjaardag van Mike &amp; Molly! Terwijl de bloemetjes bloeien en de vogeltjes fluiten, gaan de vrolijke schaapjes op pad om alles te verzamelen voor een écht verjaardagsfeestje: feestversiering, cadeaus en natuurlijk een heerlijke taart! Onderweg zingen ze vrolijke liedjes, maken ze grapjes en ontdekken ze samen met de kinderen van alles over kleuren, vormen en cijfers. Maar er is één klein probleempje… De brug over de sloot is kapot waardoor Mike en Molly niet verder kunnen. Mike bedenkt de gekste manieren om aan de overkant te komen, met ballonnen, rolschaatsen en zelfs een raket! Zou het lukken alles op tijd te verzamelen voor het verjaardagsfeestje?</p>
<p>Regisseur</p>
<ul><li>Nick Driessen</li></ul>
<p>Acteurs</p>
<ul><li>Eva Jonker</li></ul>
<p>Duur: 60 minuten</p>
<p>Genres</p>
<ul><li>Animatie</li><li>Kinderfilm</li><li>Familiefilm</li></ul>
LAST-MODIFIED:20260421T092607Z
LOCATION: Onbekend | Ruiterskwartier 6a Leeuwarden
SEQUENCE:0
STATUS:CONFIRMED
SUMMARY:Mike & Molly vieren feest
TRANSP:OPAQUE
END:VEVENT
END:VCALENDAR
