BEGIN:VCALENDAR
PRODID:-//PUBBLE//agenda//NL
VERSION:2.0
METHOD:PUBLISH
BEGIN:VEVENT
DTSTART:20261120T191500Z
DTEND:20261120T201500Z
DTSTAMP:20260421T193812Z
UID:c4868a67-80b4-44da-9001-59e6a3b74a14
CREATED:20260421T193812Z
NAME:Krezip grootleeuwarden.nl
X-WR-CALNAME:Krezip
X-ALT-DESC;FMTTYPE=text/html:<a href='/agenda/2026/11/20/krezip-130280'>/agenda/2026/11/20/krezip-130280</a> || <p><strong>Sinds hun doorbraak in 2000 heeft Krezip een blijvende stempel gedrukt op de Nederlandse muziekscene. Na hun legendarische optreden op Pinkpop werd heel Nederland gegrepen door de megahit I Would Stay.</strong></p>
<p>In de jaren die volgden groeide de band uit tot een vaste waarde met meerdere succesvolle albums en grote hits als Out of My Bed, Sweet Goodbyes, Lost Without You&nbsp;en Make It a Memory (met&nbsp;Danny Vera). 2025 werd een extra bijzonder jaar voor Krezip. Het was een jaar van de terugkeer op de mainstage van ‘hun’ Pinkpop en een groots concert in de Ziggo Dome.&nbsp;</p>
<p>Met twee uitverkochte en lovend ontvangen theatertournees, is Krezip inmiddels niet meer weg te denken uit het theater. Zo mag het publiek zich opmaken voor een meeslepende muzikale reis door het volledige oeuvre van de band, waarin iconische nummers worden afgewisseld met persoonlijke verhalen en misschien zelfs een paar verrassende verzoekjes uit de zaal.</p>
DESCRIPTION:<a href='/agenda/2026/11/20/krezip-130280'>/agenda/2026/11/20/krezip-130280</a> || <p><strong>Sinds hun doorbraak in 2000 heeft Krezip een blijvende stempel gedrukt op de Nederlandse muziekscene. Na hun legendarische optreden op Pinkpop werd heel Nederland gegrepen door de megahit I Would Stay.</strong></p>
<p>In de jaren die volgden groeide de band uit tot een vaste waarde met meerdere succesvolle albums en grote hits als Out of My Bed, Sweet Goodbyes, Lost Without You&nbsp;en Make It a Memory (met&nbsp;Danny Vera). 2025 werd een extra bijzonder jaar voor Krezip. Het was een jaar van de terugkeer op de mainstage van ‘hun’ Pinkpop en een groots concert in de Ziggo Dome.&nbsp;</p>
<p>Met twee uitverkochte en lovend ontvangen theatertournees, is Krezip inmiddels niet meer weg te denken uit het theater. Zo mag het publiek zich opmaken voor een meeslepende muzikale reis door het volledige oeuvre van de band, waarin iconische nummers worden afgewisseld met persoonlijke verhalen en misschien zelfs een paar verrassende verzoekjes uit de zaal.</p>
LAST-MODIFIED:20260421T193812Z
LOCATION: Stadsschouwburg De Harmonie | Ruiterskwartier 4 Leeuwarden
SEQUENCE:0
STATUS:CONFIRMED
SUMMARY:Krezip
TRANSP:OPAQUE
END:VEVENT
END:VCALENDAR
