BEGIN:VCALENDAR
PRODID:-//PUBBLE//agenda//NL
VERSION:2.0
METHOD:PUBLISH
BEGIN:VEVENT
DTSTART:20261204T180000Z
DTEND:20261204T190000Z
DTSTAMP:20260421T180947Z
UID:07af1bdf-cf4a-4e89-944e-80d9ac1c4797
CREATED:20260421T180947Z
NAME:KADO grootleeuwarden.nl
X-WR-CALNAME:KADO
X-ALT-DESC;FMTTYPE=text/html:<a href='/agenda/2026/12/4/kado-130276'>/agenda/2026/12/4/kado-130276</a> || <p><strong>Groot nieuws! KADO komt dit jaar per vliegtuig eerder naar Nederland. Sinterklaas heeft namelijk een héél bijzondere verrassing voor de meiden van KADO in petto… Wat dat is? Dat houden we nog even geheim. Maar één ding is zeker: dit wordt spectaculair!</strong></p>
<p>Een dag voor Pakjesavond komen ze naar De Harmonie; de meiden van KADO uit De Club van Sinterklaas. Een vrolijke show vol met liedjes voor het hele gezin. Interactiever en intiemer dan ooit. Zing uit volle borst mee met alle KADO-hits en help de meiden tijdens een gloednieuw avontuur. Alles komt voorbij: van verliefdheid tot fashion, van make-up tot de lekkerste Sinterklaassnacks.</p>
DESCRIPTION:<a href='/agenda/2026/12/4/kado-130276'>/agenda/2026/12/4/kado-130276</a> || <p><strong>Groot nieuws! KADO komt dit jaar per vliegtuig eerder naar Nederland. Sinterklaas heeft namelijk een héél bijzondere verrassing voor de meiden van KADO in petto… Wat dat is? Dat houden we nog even geheim. Maar één ding is zeker: dit wordt spectaculair!</strong></p>
<p>Een dag voor Pakjesavond komen ze naar De Harmonie; de meiden van KADO uit De Club van Sinterklaas. Een vrolijke show vol met liedjes voor het hele gezin. Interactiever en intiemer dan ooit. Zing uit volle borst mee met alle KADO-hits en help de meiden tijdens een gloednieuw avontuur. Alles komt voorbij: van verliefdheid tot fashion, van make-up tot de lekkerste Sinterklaassnacks.</p>
LAST-MODIFIED:20260421T180947Z
LOCATION: Stadsschouwburg De Harmonie | Ruiterskwartier 4 Leeuwarden
SEQUENCE:0
STATUS:CONFIRMED
SUMMARY:KADO
TRANSP:OPAQUE
END:VEVENT
END:VCALENDAR
