BEGIN:VCALENDAR
PRODID:-//PUBBLE//agenda//NL
VERSION:2.0
METHOD:PUBLISH
BEGIN:VEVENT
DTSTART:20260514T190000Z
DTEND:20260514T210600Z
DTSTAMP:20260421T141007Z
UID:6037101c-30cf-4fd0-b677-dfe9942e3fbb
CREATED:20260421T141007Z
NAME:Iron Maiden: Burning Ambition grootleeuwarden.nl
X-WR-CALNAME:Iron Maiden: Burning Ambition
X-ALT-DESC;FMTTYPE=text/html:<a href='/agenda/2026/5/14/iron-maiden-burning-ambition-130259'>/agenda/2026/5/14/iron-maiden-burning-ambition-130259</a> || <p>Iron Maiden: Burning Ambition biedt fans de kans om het avontuur van een van de meest iconische bands uit de muziekgeschiedenis mee te beleven, met nooit eerder vertoonde archiefbeelden en persoonlijke herinneringen van de bandleden, uit heden en verleden. Deze zinderende documentaire beslaat maar liefst vijf decennia, van het vroege begin in de pubs van Oost-Londen tot aan de grootste stadions ter wereld. De film bevat exclusieve interviews met bandleden en bijdragen van onder anderen Javier Bardem, Lars Ulrich en Chuck D, maar ook gloednieuwe animaties van Iron Maidens legendarische mascotte Eddie. Het is een unieke en intieme blik op de visie en volharding van Iron Maiden en op de rotsvaste band die ze hebben met hun fans over de hele wereld.</p>
<p>Regisseur</p>
<ul><li>Malcolm Venville</li></ul>
<p>Acteurs</p>
<ul><li>Bruce Dickinson</li><li>Steve Harris</li><li>Dave Murray</li><li>Adrian Smith</li><li>Janick Gers</li><li>Nicko McBrain</li></ul>
<p>Duur: 106 minuten</p>
<p>Genres</p>
<ul><li>Documentaire</li><li>Muziek</li></ul>
DESCRIPTION:<a href='/agenda/2026/5/14/iron-maiden-burning-ambition-130259'>/agenda/2026/5/14/iron-maiden-burning-ambition-130259</a> || <p>Iron Maiden: Burning Ambition biedt fans de kans om het avontuur van een van de meest iconische bands uit de muziekgeschiedenis mee te beleven, met nooit eerder vertoonde archiefbeelden en persoonlijke herinneringen van de bandleden, uit heden en verleden. Deze zinderende documentaire beslaat maar liefst vijf decennia, van het vroege begin in de pubs van Oost-Londen tot aan de grootste stadions ter wereld. De film bevat exclusieve interviews met bandleden en bijdragen van onder anderen Javier Bardem, Lars Ulrich en Chuck D, maar ook gloednieuwe animaties van Iron Maidens legendarische mascotte Eddie. Het is een unieke en intieme blik op de visie en volharding van Iron Maiden en op de rotsvaste band die ze hebben met hun fans over de hele wereld.</p>
<p>Regisseur</p>
<ul><li>Malcolm Venville</li></ul>
<p>Acteurs</p>
<ul><li>Bruce Dickinson</li><li>Steve Harris</li><li>Dave Murray</li><li>Adrian Smith</li><li>Janick Gers</li><li>Nicko McBrain</li></ul>
<p>Duur: 106 minuten</p>
<p>Genres</p>
<ul><li>Documentaire</li><li>Muziek</li></ul>
LAST-MODIFIED:20260421T141007Z
LOCATION: Onbekend | Ruiterskwartier 6a Leeuwarden
SEQUENCE:0
STATUS:CONFIRMED
SUMMARY:Iron Maiden: Burning Ambition
TRANSP:OPAQUE
END:VEVENT
END:VCALENDAR
