BEGIN:VCALENDAR
PRODID:-//PUBBLE//agenda//NL
VERSION:2.0
METHOD:PUBLISH
BEGIN:VEVENT
DTSTART:20270627T150000Z
DTEND:20270627T160000Z
DTSTAMP:20260421T171927Z
UID:7c85deb8-1e38-48c0-9c6a-6cad886c62d7
CREATED:20260421T171927Z
NAME:Ein Deutsches Requiem op.45 - From Scratch on grootleeuwarden.nl
X-WR-CALNAME:Ein Deutsches Requiem op.45 - From Scratch on
X-ALT-DESC;FMTTYPE=text/html:<a href='/agenda/2027/6/27/ein-deutsches-requiem-op-45-from-scratch-on-130243'>/agenda/2027/6/27/ein-deutsches-requiem-op-45-from-scratch-on-130243</a> || <p>Het grootschalig werk voor koor, orkest en solisten, <em>Een Duits Requiem</em>&nbsp;op. 45 (Duits: <em>Ein deutsches Requiem, </em>nach Worten der heiligen Schrift)&nbsp;van Johannes Brahms, is gecomponeerd tussen 1865 en 1868. Het bestaat uit zeven delen waardoor dit werk zowel Brahms’ langste compositie als zijn werk voor de grootste bezetting is.</p>

<p>Het Noord Nederlands Orkest o.l.v. dirigent Krista Audere brengt nu zijn Requim ten gehore, met 350 (amateur)zangers uit Noord Nederland, sopraan Ana-Carmen Balestra en bariton&nbsp;Raoul Steffani. Kom je luisteren of zing je mee?&nbsp;</p>

<p><strong>Je kunt je nu al aanmelden om mee te zingen!</strong></p>

<p>&nbsp;<a href="https://harmonie.nl/scratch" target="_blank">IMeer informatie en aanmelden&nbsp;</a></p>
DESCRIPTION:<a href='/agenda/2027/6/27/ein-deutsches-requiem-op-45-from-scratch-on-130243'>/agenda/2027/6/27/ein-deutsches-requiem-op-45-from-scratch-on-130243</a> || <p>Het grootschalig werk voor koor, orkest en solisten, <em>Een Duits Requiem</em>&nbsp;op. 45 (Duits: <em>Ein deutsches Requiem, </em>nach Worten der heiligen Schrift)&nbsp;van Johannes Brahms, is gecomponeerd tussen 1865 en 1868. Het bestaat uit zeven delen waardoor dit werk zowel Brahms’ langste compositie als zijn werk voor de grootste bezetting is.</p>

<p>Het Noord Nederlands Orkest o.l.v. dirigent Krista Audere brengt nu zijn Requim ten gehore, met 350 (amateur)zangers uit Noord Nederland, sopraan Ana-Carmen Balestra en bariton&nbsp;Raoul Steffani. Kom je luisteren of zing je mee?&nbsp;</p>

<p><strong>Je kunt je nu al aanmelden om mee te zingen!</strong></p>

<p>&nbsp;<a href="https://harmonie.nl/scratch" target="_blank">IMeer informatie en aanmelden&nbsp;</a></p>
LAST-MODIFIED:20260421T171927Z
LOCATION: Stadsschouwburg De Harmonie | Ruiterskwartier 4 Leeuwarden
SEQUENCE:0
STATUS:CONFIRMED
SUMMARY:Ein Deutsches Requiem op.45 - From Scratch on
TRANSP:OPAQUE
END:VEVENT
END:VCALENDAR
