BEGIN:VCALENDAR
PRODID:-//PUBBLE//agenda//NL
VERSION:2.0
METHOD:PUBLISH
BEGIN:VEVENT
DTSTART:20270320T191500Z
DTEND:20270320T201500Z
DTSTAMP:20260421T165224Z
UID:b3296fb8-f053-4436-a0c9-8f5f72f2808f
CREATED:20260421T165224Z
NAME:Donna’s Hot Stuff grootleeuwarden.nl
X-WR-CALNAME:Donna’s Hot Stuff
X-ALT-DESC;FMTTYPE=text/html:<a href='/agenda/2027/3/20/donnas-hot-stuff-130242'>/agenda/2027/3/20/donnas-hot-stuff-130242</a> || <p><strong>Maak je klaar voor een avond vol disco en live-energie. Donna’s Hot Stuff brengt een warm eerbetoon aan Donna Summer. Deze 13-koppige band neemt je mee naar de tijd van glitter, dansvloeren en grote hits.</strong></p>
<p>Tijdens de voorstelling hoor je bekende nummers als <em>Hot Stuff</em>, <em>Bad Girls</em>, <em>I Feel Love</em> en <em>Last Dance</em>. De band speelt de songs met respect voor het origineel. Tegelijk geven ze er een eigen, frisse draai aan. Zo klinkt de muziek vertrouwd én nieuw. De energie van toen is weer voelbaar in de zaal.</p>
<p>In het midden van de show staat zangeres Irma Derby. Zij staat ook bekend als de Dutch Queen of Soul. Met haar krachtige stem en groot bereik brengt zij de nummers tot leven. Ze imiteert Donna Summer niet, maar laat wel de kracht, emotie en uitstraling horen die haar zo bijzonder maakten. Je voelt de soul in elke noot.</p>
<p>Rondom haar staat een sterke liveband. Backing vocals, blazers, percussie en toetsen zorgen samen voor een volle en dansbare sound. Ook de dansers geven extra energie aan de show. Alles klopt: van de muziek tot de uitstraling. Glitter en glamour zijn aanwezig, maar altijd in dienst van de muziek.</p>
<p>Donna’s Hot Stuff viel ook op bij het grote publiek. De band werd één van de twee winnaars van <em>The Tribute – Battle of the Bands</em>, seizoen 5. Dat laat zien dat hun muzikale kwaliteit en live-uitstraling gezien worden.</p>
<p>Deze theatertour is meer dan een terugblik. Het is een viering van muziek die nog steeds mensen samenbrengt. De nummers van Donna Summer leven voort en nodigen uit om mee te bewegen. Een avond vol herkenning, energie en dansbare grooves.</p>
<p><strong>Foto’s: </strong>William Rutten</p>
DESCRIPTION:<a href='/agenda/2027/3/20/donnas-hot-stuff-130242'>/agenda/2027/3/20/donnas-hot-stuff-130242</a> || <p><strong>Maak je klaar voor een avond vol disco en live-energie. Donna’s Hot Stuff brengt een warm eerbetoon aan Donna Summer. Deze 13-koppige band neemt je mee naar de tijd van glitter, dansvloeren en grote hits.</strong></p>
<p>Tijdens de voorstelling hoor je bekende nummers als <em>Hot Stuff</em>, <em>Bad Girls</em>, <em>I Feel Love</em> en <em>Last Dance</em>. De band speelt de songs met respect voor het origineel. Tegelijk geven ze er een eigen, frisse draai aan. Zo klinkt de muziek vertrouwd én nieuw. De energie van toen is weer voelbaar in de zaal.</p>
<p>In het midden van de show staat zangeres Irma Derby. Zij staat ook bekend als de Dutch Queen of Soul. Met haar krachtige stem en groot bereik brengt zij de nummers tot leven. Ze imiteert Donna Summer niet, maar laat wel de kracht, emotie en uitstraling horen die haar zo bijzonder maakten. Je voelt de soul in elke noot.</p>
<p>Rondom haar staat een sterke liveband. Backing vocals, blazers, percussie en toetsen zorgen samen voor een volle en dansbare sound. Ook de dansers geven extra energie aan de show. Alles klopt: van de muziek tot de uitstraling. Glitter en glamour zijn aanwezig, maar altijd in dienst van de muziek.</p>
<p>Donna’s Hot Stuff viel ook op bij het grote publiek. De band werd één van de twee winnaars van <em>The Tribute – Battle of the Bands</em>, seizoen 5. Dat laat zien dat hun muzikale kwaliteit en live-uitstraling gezien worden.</p>
<p>Deze theatertour is meer dan een terugblik. Het is een viering van muziek die nog steeds mensen samenbrengt. De nummers van Donna Summer leven voort en nodigen uit om mee te bewegen. Een avond vol herkenning, energie en dansbare grooves.</p>
<p><strong>Foto’s: </strong>William Rutten</p>
LAST-MODIFIED:20260421T165224Z
LOCATION: Stadsschouwburg De Harmonie | Ruiterskwartier 4 Leeuwarden
SEQUENCE:0
STATUS:CONFIRMED
SUMMARY:Donna’s Hot Stuff
TRANSP:OPAQUE
END:VEVENT
END:VCALENDAR
