BEGIN:VCALENDAR
PRODID:-//PUBBLE//agenda//NL
VERSION:2.0
METHOD:PUBLISH
BEGIN:VEVENT
DTSTART:20260419T103000Z
DTEND:20260419T114400Z
DTSTAMP:20260421T093502Z
UID:1c1384e4-366e-4700-8dc2-cf24db5181a6
CREATED:20260421T093502Z
NAME:Bluey in de Bios: Spelen met je vriendjes grootleeuwarden.nl
X-WR-CALNAME:Bluey in de Bios: Spelen met je vriendjes
X-ALT-DESC;FMTTYPE=text/html:<a href='/agenda/2026/4/19/bluey-in-de-bios-spelen-met-je-vriendjes-130185'>/agenda/2026/4/19/bluey-in-de-bios-spelen-met-je-vriendjes-130185</a> || <p>Bluey in de Bios: Spelen met je vriendjes – Verzameling is een uur plezier met Bluey en haar vriendjes. Er worden acht afleveringen uit alle drie seizoenen van de serie getoond, waarin creativiteit en verbeelding tot leven komen! De compilatie toont een aantal van Bluey’s favoriete spelletjes zoals Schaduwland en Inktvisje, en belicht bijzondere momenten van vriendschap in afleveringen als Circusje en Glijden – alles met veel plezier en gelach.</p>
<p>Duur: 54 minuten</p>
<p>Genres</p>
<ul><li>Animatie</li><li>Kinderfilm</li></ul>
DESCRIPTION:<a href='/agenda/2026/4/19/bluey-in-de-bios-spelen-met-je-vriendjes-130185'>/agenda/2026/4/19/bluey-in-de-bios-spelen-met-je-vriendjes-130185</a> || <p>Bluey in de Bios: Spelen met je vriendjes – Verzameling is een uur plezier met Bluey en haar vriendjes. Er worden acht afleveringen uit alle drie seizoenen van de serie getoond, waarin creativiteit en verbeelding tot leven komen! De compilatie toont een aantal van Bluey’s favoriete spelletjes zoals Schaduwland en Inktvisje, en belicht bijzondere momenten van vriendschap in afleveringen als Circusje en Glijden – alles met veel plezier en gelach.</p>
<p>Duur: 54 minuten</p>
<p>Genres</p>
<ul><li>Animatie</li><li>Kinderfilm</li></ul>
LAST-MODIFIED:20260421T093502Z
LOCATION: Onbekend | Ruiterskwartier 6a Leeuwarden
SEQUENCE:0
STATUS:CONFIRMED
SUMMARY:Bluey in de Bios: Spelen met je vriendjes
TRANSP:OPAQUE
END:VEVENT
END:VCALENDAR
