BEGIN:VCALENDAR
PRODID:-//PUBBLE//agenda//NL
VERSION:2.0
METHOD:PUBLISH
BEGIN:VEVENT
DTSTART:20260426T193000Z
DTEND:20260426T212300Z
DTSTAMP:20260421T182036Z
UID:e5b12460-3971-4dfd-b196-40bfbe00ef0d
CREATED:20260421T182036Z
NAME:Amrum grootleeuwarden.nl
X-WR-CALNAME:Amrum
X-ALT-DESC;FMTTYPE=text/html:<a href='/agenda/2026/4/26/amrum-130182'>/agenda/2026/4/26/amrum-130182</a> || <p>April 1945. Op het afgelegen Duitse waddeneiland Amrum is in de laatste weken van de oorlog aan alles gebrek. De twaalfjarige Nanning moet als ‘man des huizes’ alles op alles zetten om zijn hoogzwangere moeder, zijn broertje en zusje, en zijn tante van voedsel te voorzien. Ondanks alle ontberingen voelt het leven op het prachtige, winderige eiland bijna als een paradijs. Maar wanneer de vrede eindelijk aanbreekt, worstelt Nanning met de Nazi-overtuigingen van zijn ouders, en de tegenstanders op het eiland.</p>
<p>Regisseur</p>
<ul><li>Fatih Akin</li></ul>
<p>Acteurs</p>
<ul><li>Lars Jessen</li><li>Detlev Buck</li><li>Lisa Hagmeister</li><li>Laura Tonke</li><li>Kian Köppke</li><li>Jasper Billerbeck</li><li>Matthias Schweighöfer</li><li>Diane Kruger</li></ul>
<p>Duur: 93 minuten</p>
<p>Genres</p>
<ul><li>Drama</li></ul>
DESCRIPTION:<a href='/agenda/2026/4/26/amrum-130182'>/agenda/2026/4/26/amrum-130182</a> || <p>April 1945. Op het afgelegen Duitse waddeneiland Amrum is in de laatste weken van de oorlog aan alles gebrek. De twaalfjarige Nanning moet als ‘man des huizes’ alles op alles zetten om zijn hoogzwangere moeder, zijn broertje en zusje, en zijn tante van voedsel te voorzien. Ondanks alle ontberingen voelt het leven op het prachtige, winderige eiland bijna als een paradijs. Maar wanneer de vrede eindelijk aanbreekt, worstelt Nanning met de Nazi-overtuigingen van zijn ouders, en de tegenstanders op het eiland.</p>
<p>Regisseur</p>
<ul><li>Fatih Akin</li></ul>
<p>Acteurs</p>
<ul><li>Lars Jessen</li><li>Detlev Buck</li><li>Lisa Hagmeister</li><li>Laura Tonke</li><li>Kian Köppke</li><li>Jasper Billerbeck</li><li>Matthias Schweighöfer</li><li>Diane Kruger</li></ul>
<p>Duur: 93 minuten</p>
<p>Genres</p>
<ul><li>Drama</li></ul>
LAST-MODIFIED:20260421T182036Z
LOCATION: Onbekend | Ruiterskwartier 6a Leeuwarden
SEQUENCE:0
STATUS:CONFIRMED
SUMMARY:Amrum
TRANSP:OPAQUE
END:VEVENT
END:VCALENDAR
