BEGIN:VCALENDAR
PRODID:-//PUBBLE//agenda//NL
VERSION:2.0
METHOD:PUBLISH
BEGIN:VEVENT
DTSTART:20260507T200000Z
DTEND:20260507T211500Z
DTSTAMP:20260421T170333Z
UID:2c8b3ff7-3859-43b8-935e-f77eb6c5351e
CREATED:20260421T170333Z
NAME:SGL Lezing Natascha van der Zwan: Is veiligheid de nieuwe duurzaamheid? grootleeuwarden.nl
X-WR-CALNAME:SGL Lezing Natascha van der Zwan: Is veiligheid de nieuwe duurzaamheid?
X-ALT-DESC;FMTTYPE=text/html:<a href='/agenda/2026/5/7/sgl-lezing-natascha-van-der-zwan-is-veiligheid-de-nieuwe-duurzaamheid--130125'>/agenda/2026/5/7/sgl-lezing-natascha-van-der-zwan-is-veiligheid-de-nieuwe-duurzaamheid--130125</a> || <p>Tot voor kort was duurzaamheid het paradepaardje van de Europese Unie. Het pakket maatregelen dat uit de EU Green Deal voortkomt draagt daaraan bij. Het doel is niet alleen om Europa in 2050 klimaatneutraal te krijgen, maar ook om de handelspositie van de EU internationaal te versterken. Door de geopolitieke onrust en de interne politieke verschuivingen is de aandacht van de Europese Commissie verschoven. Waar eerder klimaatbeleid centraal stond, is de focus nu verschoven naar Europese weerbaarheid, met zaken als strategische autonomie, maatschappelijke weerbaarheid en ook militaire paraatheid.<br /><br />In het kader van de Europadag 2026 geeft Natascha van der Zwan een lezing die in zal gaan op deze recentelijke veranderingen van de Europese agenda. Ervaren we inderdaad een breuk met het verleden of sluiten de nieuwe prioriteiten van de Europese Commissie juist aan op de eerdere politieke doelen? En wat betekent dit voor Europese burgers? Daarbij besteedt Van der Zwan in het bijzonder aandacht aan de inzet van de Europese economie als geopolitiek machtsmiddel, een ontwikkeling die ook wel ‘’geo-economie’’ wordt genoemd.</p>
DESCRIPTION:<a href='/agenda/2026/5/7/sgl-lezing-natascha-van-der-zwan-is-veiligheid-de-nieuwe-duurzaamheid--130125'>/agenda/2026/5/7/sgl-lezing-natascha-van-der-zwan-is-veiligheid-de-nieuwe-duurzaamheid--130125</a> || <p>Tot voor kort was duurzaamheid het paradepaardje van de Europese Unie. Het pakket maatregelen dat uit de EU Green Deal voortkomt draagt daaraan bij. Het doel is niet alleen om Europa in 2050 klimaatneutraal te krijgen, maar ook om de handelspositie van de EU internationaal te versterken. Door de geopolitieke onrust en de interne politieke verschuivingen is de aandacht van de Europese Commissie verschoven. Waar eerder klimaatbeleid centraal stond, is de focus nu verschoven naar Europese weerbaarheid, met zaken als strategische autonomie, maatschappelijke weerbaarheid en ook militaire paraatheid.<br /><br />In het kader van de Europadag 2026 geeft Natascha van der Zwan een lezing die in zal gaan op deze recentelijke veranderingen van de Europese agenda. Ervaren we inderdaad een breuk met het verleden of sluiten de nieuwe prioriteiten van de Europese Commissie juist aan op de eerdere politieke doelen? En wat betekent dit voor Europese burgers? Daarbij besteedt Van der Zwan in het bijzonder aandacht aan de inzet van de Europese economie als geopolitiek machtsmiddel, een ontwikkeling die ook wel ‘’geo-economie’’ wordt genoemd.</p>
LAST-MODIFIED:20260421T170333Z
LOCATION: De Beurs | Wirdumerdijk 34 Leeuwarden
SEQUENCE:0
STATUS:CONFIRMED
SUMMARY:SGL Lezing Natascha van der Zwan: Is veiligheid de nieuwe duurzaamheid?
TRANSP:OPAQUE
END:VEVENT
END:VCALENDAR
