BEGIN:VCALENDAR
PRODID:-//PUBBLE//agenda//NL
VERSION:2.0
METHOD:PUBLISH
BEGIN:VEVENT
DTSTART:20260502T183000Z
DTEND:20260502T223000Z
DTSTAMP:20260421T152640Z
UID:94e106e4-7748-4c46-b3a2-455ae151dc71
CREATED:20260421T152640Z
NAME:Folkskeuken Turkije grootleeuwarden.nl
X-WR-CALNAME:Folkskeuken Turkije
X-ALT-DESC;FMTTYPE=text/html:<a href='/agenda/2026/5/2/folkskeuken-turkije-129685'>/agenda/2026/5/2/folkskeuken-turkije-129685</a> || <p><em>Folkscafé meet-ups en Folkskeuken worden mogelijk gemaakt door Explore the North in samenwerking met Sedrana. Het project wordt gesteund door Cultuurfonds en Over de drempel van Arcadia.</em></p>
DESCRIPTION:<a href='/agenda/2026/5/2/folkskeuken-turkije-129685'>/agenda/2026/5/2/folkskeuken-turkije-129685</a> || <p><em>Folkscafé meet-ups en Folkskeuken worden mogelijk gemaakt door Explore the North in samenwerking met Sedrana. Het project wordt gesteund door Cultuurfonds en Over de drempel van Arcadia.</em></p>
LAST-MODIFIED:20260421T152640Z
LOCATION: Onbekend | Bagijnestraat 59 Leeuwarden
SEQUENCE:0
STATUS:CONFIRMED
SUMMARY:Folkskeuken Turkije
TRANSP:OPAQUE
END:VEVENT
END:VCALENDAR
