BEGIN:VCALENDAR
PRODID:-//PUBBLE//agenda//NL
VERSION:2.0
METHOD:PUBLISH
BEGIN:VEVENT
DTSTART:20260807T120000Z
DTEND:20260807T130000Z
DTSTAMP:20260421T195806Z
UID:6406e6fb-1d34-42ad-8eb6-90b04f65253b
CREATED:20260421T195806Z
NAME:150 jaar Mata Hari - Bearn Bilker over Mata Hari grootleeuwarden.nl
X-WR-CALNAME:150 jaar Mata Hari - Bearn Bilker over Mata Hari
X-ALT-DESC;FMTTYPE=text/html:<a href='/agenda/2026/8/7/150-jaar-mata-hari-bearn-bilker-over-mata-hari-129682'>/agenda/2026/8/7/150-jaar-mata-hari-bearn-bilker-over-mata-hari-129682</a> || <p><strong><em>Dit evenement is onderdeel van </em>150 jaar Mata Hari<em>. Dit jubileumjaar vieren we in Leeuwarden met kunst, dans, theater, feestjes, exposities, tours en nog veel meer. Het programma loopt van 23 mei tot en met 7 augustus (Mata Hari’s verjaardag) en is&nbsp;<a href="https://www.visitleeuwarden.com/nl/150jaarmatahari" target="_blank">hier</a>&nbsp;te vinden.</em></strong></p>
<p>Op deze dag is het precies 150 jaar geleden dat Mata Hari werd geboren. Bearn Bilker zal in een korte lezing van circa 30 minuten vertellen over het leven van Mata Hari.</p>
<p>Vervolgens kunt u meelopen naar het beeldje van Mata Hari bij haar geboortehuis, waar op dat moment een herdenking zal plaatsvinden. Geïnteresseerden kunnen zich ook opgeven voor een stadswandeling over Mata Hari, direct na de herdenking.</p>
<p><em>Organisatie: HCL, Aed Levwerd &amp; Leeuwardentour.</em></p>
<p><em>Stadswandeling aanmelden kan via: leeuwardentour.nl/boekingen/wandeling<br />Start: Kelders 33 om 13:30 uur Leeuwarden<br />Kosten: € 6,00 p.p.&nbsp;</em></p>
DESCRIPTION:<a href='/agenda/2026/8/7/150-jaar-mata-hari-bearn-bilker-over-mata-hari-129682'>/agenda/2026/8/7/150-jaar-mata-hari-bearn-bilker-over-mata-hari-129682</a> || <p><strong><em>Dit evenement is onderdeel van </em>150 jaar Mata Hari<em>. Dit jubileumjaar vieren we in Leeuwarden met kunst, dans, theater, feestjes, exposities, tours en nog veel meer. Het programma loopt van 23 mei tot en met 7 augustus (Mata Hari’s verjaardag) en is&nbsp;<a href="https://www.visitleeuwarden.com/nl/150jaarmatahari" target="_blank">hier</a>&nbsp;te vinden.</em></strong></p>
<p>Op deze dag is het precies 150 jaar geleden dat Mata Hari werd geboren. Bearn Bilker zal in een korte lezing van circa 30 minuten vertellen over het leven van Mata Hari.</p>
<p>Vervolgens kunt u meelopen naar het beeldje van Mata Hari bij haar geboortehuis, waar op dat moment een herdenking zal plaatsvinden. Geïnteresseerden kunnen zich ook opgeven voor een stadswandeling over Mata Hari, direct na de herdenking.</p>
<p><em>Organisatie: HCL, Aed Levwerd &amp; Leeuwardentour.</em></p>
<p><em>Stadswandeling aanmelden kan via: leeuwardentour.nl/boekingen/wandeling<br />Start: Kelders 33 om 13:30 uur Leeuwarden<br />Kosten: € 6,00 p.p.&nbsp;</em></p>
LAST-MODIFIED:20260421T195806Z
LOCATION: Onbekend | Groeneweg 1 Leeuwarden
SEQUENCE:0
STATUS:CONFIRMED
SUMMARY:150 jaar Mata Hari - Bearn Bilker over Mata Hari
TRANSP:OPAQUE
END:VEVENT
END:VCALENDAR
