BEGIN:VCALENDAR
PRODID:-//PUBBLE//agenda//NL
VERSION:2.0
METHOD:PUBLISH
BEGIN:VEVENT
DTSTART:20260502T210000Z
DTEND:20260502T003000Z
DTSTAMP:20260421T152654Z
UID:91796522-ae9c-4e5c-8d39-666b5c239649
CREATED:20260421T152654Z
NAME:Joy Division Undercover grootleeuwarden.nl
X-WR-CALNAME:Joy Division Undercover
X-ALT-DESC;FMTTYPE=text/html:<a href='/agenda/2026/5/2/joy-division-undercover-129564'>/agenda/2026/5/2/joy-division-undercover-129564</a> || <p><strong>Joy Division Undercover staat bekend om haar authentieke vertolking en wordt geliefd door een steeds groter publiek. Hun optredens worden bewonderd om de goede sfeer en het respectvolle eerbetoon aan de originele band, met vocals die soms zo dicht bij die van Ian Curtis komen dat het bijna eng is.</strong></p>
<p>Ze spelen anderhalf uur lang ‘The Best Of’ van live Joy Division, zo hard dat de dakpannen van het pand afvliegen. De band bestaat uit die-hard muzikanten en grootse Joy Division-fans, waaronder zanger Erny Green (The Eternal/Kaspar Baum) en gitarist Henk Koorn (Hallo Venray). Dit alles doen ze omdat het in 2026 alweer vijftig jaar geleden is dat de iconische Britse postpunkband Joy Division werd opgericht.</p>
DESCRIPTION:<a href='/agenda/2026/5/2/joy-division-undercover-129564'>/agenda/2026/5/2/joy-division-undercover-129564</a> || <p><strong>Joy Division Undercover staat bekend om haar authentieke vertolking en wordt geliefd door een steeds groter publiek. Hun optredens worden bewonderd om de goede sfeer en het respectvolle eerbetoon aan de originele band, met vocals die soms zo dicht bij die van Ian Curtis komen dat het bijna eng is.</strong></p>
<p>Ze spelen anderhalf uur lang ‘The Best Of’ van live Joy Division, zo hard dat de dakpannen van het pand afvliegen. De band bestaat uit die-hard muzikanten en grootse Joy Division-fans, waaronder zanger Erny Green (The Eternal/Kaspar Baum) en gitarist Henk Koorn (Hallo Venray). Dit alles doen ze omdat het in 2026 alweer vijftig jaar geleden is dat de iconische Britse postpunkband Joy Division werd opgericht.</p>
LAST-MODIFIED:20260421T152654Z
LOCATION: Neushoorn Leeuwarden | Ruiterskwartier 41 Leeuwarden
SEQUENCE:0
STATUS:CONFIRMED
SUMMARY:Joy Division Undercover
TRANSP:OPAQUE
END:VEVENT
END:VCALENDAR
