BEGIN:VCALENDAR
PRODID:-//PUBBLE//agenda//NL
VERSION:2.0
METHOD:PUBLISH
BEGIN:VEVENT
DTSTART:20260509T140000Z
DTEND:20260509T153000Z
DTSTAMP:20260421T170327Z
UID:62eded1e-e284-4150-bab6-1d36f87fa789
CREATED:20260421T170327Z
NAME:Wandeling sporen van Joods Leven grootleeuwarden.nl
X-WR-CALNAME:Wandeling sporen van Joods Leven
X-ALT-DESC;FMTTYPE=text/html:<a href='/agenda/2026/5/9/wandeling-sporen-van-joods-leven-129519'>/agenda/2026/5/9/wandeling-sporen-van-joods-leven-129519</a> || <p>De Leeuwarder Joodse gemeenschap kent een geschiedenis van ruim 350 jaar. Leeuwarden was lange tijd het Joodse centrum van Noord-Nederland. <br />Sta samen stil bij het Joods Monument en luister naar het verhaal van de vroegere Joodse school.&nbsp;</p>
<p><em>Organisatie: Stadsgidsen team van Leeuwardentour</em></p>
DESCRIPTION:<a href='/agenda/2026/5/9/wandeling-sporen-van-joods-leven-129519'>/agenda/2026/5/9/wandeling-sporen-van-joods-leven-129519</a> || <p>De Leeuwarder Joodse gemeenschap kent een geschiedenis van ruim 350 jaar. Leeuwarden was lange tijd het Joodse centrum van Noord-Nederland. <br />Sta samen stil bij het Joods Monument en luister naar het verhaal van de vroegere Joodse school.&nbsp;</p>
<p><em>Organisatie: Stadsgidsen team van Leeuwardentour</em></p>
LAST-MODIFIED:20260421T170327Z
LOCATION: Onbekend | Groeneweg 1 Leeuwarden
SEQUENCE:0
STATUS:CONFIRMED
SUMMARY:Wandeling sporen van Joods Leven
TRANSP:OPAQUE
END:VEVENT
END:VCALENDAR
