BEGIN:VCALENDAR
PRODID:-//PUBBLE//agenda//NL
VERSION:2.0
METHOD:PUBLISH
BEGIN:VEVENT
DTSTART:20260712T140000Z
DTEND:20260712T153000Z
DTSTAMP:20260421T200330Z
UID:0c0bcf9c-0f8f-428f-b8d5-34456662d9af
CREATED:20260421T200330Z
NAME:Wandeling langs kerken en kloosters grootleeuwarden.nl
X-WR-CALNAME:Wandeling langs kerken en kloosters
X-ALT-DESC;FMTTYPE=text/html:<a href='/agenda/2026/7/12/wandeling-langs-kerken-en-kloosters-129516'>/agenda/2026/7/12/wandeling-langs-kerken-en-kloosters-129516</a> || <p>De wandeling gaat langs een aantal bekende kerken en (voormalige) kloosters, zoals de Grote of Jacobijnerkerk, de Westerkerk en de St. Bonifatiuskerk. Maar ook de minder bekende godshuizen krijgen aandacht, zoals de Lutherse en de Waalse kerk, de synagoge en de Doopsgezinde Kerk aan de Wirdumerdijk die tot 1832 nog onzichtbaar was vanaf de straat.</p>
DESCRIPTION:<a href='/agenda/2026/7/12/wandeling-langs-kerken-en-kloosters-129516'>/agenda/2026/7/12/wandeling-langs-kerken-en-kloosters-129516</a> || <p>De wandeling gaat langs een aantal bekende kerken en (voormalige) kloosters, zoals de Grote of Jacobijnerkerk, de Westerkerk en de St. Bonifatiuskerk. Maar ook de minder bekende godshuizen krijgen aandacht, zoals de Lutherse en de Waalse kerk, de synagoge en de Doopsgezinde Kerk aan de Wirdumerdijk die tot 1832 nog onzichtbaar was vanaf de straat.</p>
LAST-MODIFIED:20260421T200330Z
LOCATION: Onbekend | Groeneweg 1 Leeuwarden
SEQUENCE:0
STATUS:CONFIRMED
SUMMARY:Wandeling langs kerken en kloosters
TRANSP:OPAQUE
END:VEVENT
END:VCALENDAR
