BEGIN:VCALENDAR
PRODID:-//PUBBLE//agenda//NL
VERSION:2.0
METHOD:PUBLISH
BEGIN:VEVENT
DTSTART:20260508T170000Z
DTEND:20260508T180000Z
DTSTAMP:20260421T172039Z
UID:6bb2d29f-385d-4564-bda7-7efcccdd2c21
CREATED:20260421T172039Z
NAME:Orgelconcert door Peter van der Zwaag grootleeuwarden.nl
X-WR-CALNAME:Orgelconcert door Peter van der Zwaag
X-ALT-DESC;FMTTYPE=text/html:<a href='/agenda/2026/5/8/orgelconcert-door-peter-van-der-zwaag-129514'>/agenda/2026/5/8/orgelconcert-door-peter-van-der-zwaag-129514</a> || <p><strong>Orgelconcert door Peter van der Zwaag <br /></strong><strong>Cultuurpodium Dorpskerk Huizum, Leeuwarden,<br />vrijdag 8 mei 2026 van 17.00 tot 18.00 uur</strong></p>
<p>Peter van der Zwaag uit Leeuwarden zal opnieuw de prachtige klanken van ons fraai gerestaureerde orgel laten horen.&nbsp;<br />Peter studeerde orgel bij Theo Jellema en Erwin Wiersinga aan het Prins Claus Conservatorium te Groningen en behaalde in 2015 zijn diploma Master of Music. Daarnaast studeerde hij bijvak klavecimbel bij Johan Hofmann. <br />Hij won diverse prijzen op verschillende concoursen, waaronder de tweemaal de eerste prijs op het Internationaal Orgelconcours Jan Pieterszoon Sweelinck (2017 en 2019). <br />Masterclasses werden gevolgd bij o.a. Luigi Ferdinando Tagliavini, Lorenzo Ghielmi, Wolfgang Zerer, Eric Lebrun, Guy Bovet en Ben van Oosten. Hij heeft een breed repertoire, met een bijzondere interesse voor 16e- en 17e-eeuwse muziek.</p>
<p>&nbsp;<br />Hij is organist van de Grote of Jacobijnerkerk in Leeuwarden. <br />Ook is hij artistiek adviseur van de stichting ‘Organum Frisicum’ en hoofdredacteur van de ‘Friese Orgelkrant’ en eigenaar van de muziekhandel en -uitgeverij ‘Boeijenga Music’ te Leeuwarden.</p>
<p><em>U bent van harte welkom voor een uur orgelklanken, onder het genot van een kop koffie of thee à € 2,50.</em></p>
<p><em>Bij de kerk is weinig parkeerruimte. Bezoekers kunnen - op korte loopafstand en gratis - parkeren op het ruime parkeerterrein tegenover Intratuin (zuidzijde Tijnjedijk).<br /><br /></em></p>
DESCRIPTION:<a href='/agenda/2026/5/8/orgelconcert-door-peter-van-der-zwaag-129514'>/agenda/2026/5/8/orgelconcert-door-peter-van-der-zwaag-129514</a> || <p><strong>Orgelconcert door Peter van der Zwaag <br /></strong><strong>Cultuurpodium Dorpskerk Huizum, Leeuwarden,<br />vrijdag 8 mei 2026 van 17.00 tot 18.00 uur</strong></p>
<p>Peter van der Zwaag uit Leeuwarden zal opnieuw de prachtige klanken van ons fraai gerestaureerde orgel laten horen.&nbsp;<br />Peter studeerde orgel bij Theo Jellema en Erwin Wiersinga aan het Prins Claus Conservatorium te Groningen en behaalde in 2015 zijn diploma Master of Music. Daarnaast studeerde hij bijvak klavecimbel bij Johan Hofmann. <br />Hij won diverse prijzen op verschillende concoursen, waaronder de tweemaal de eerste prijs op het Internationaal Orgelconcours Jan Pieterszoon Sweelinck (2017 en 2019). <br />Masterclasses werden gevolgd bij o.a. Luigi Ferdinando Tagliavini, Lorenzo Ghielmi, Wolfgang Zerer, Eric Lebrun, Guy Bovet en Ben van Oosten. Hij heeft een breed repertoire, met een bijzondere interesse voor 16e- en 17e-eeuwse muziek.</p>
<p>&nbsp;<br />Hij is organist van de Grote of Jacobijnerkerk in Leeuwarden. <br />Ook is hij artistiek adviseur van de stichting ‘Organum Frisicum’ en hoofdredacteur van de ‘Friese Orgelkrant’ en eigenaar van de muziekhandel en -uitgeverij ‘Boeijenga Music’ te Leeuwarden.</p>
<p><em>U bent van harte welkom voor een uur orgelklanken, onder het genot van een kop koffie of thee à € 2,50.</em></p>
<p><em>Bij de kerk is weinig parkeerruimte. Bezoekers kunnen - op korte loopafstand en gratis - parkeren op het ruime parkeerterrein tegenover Intratuin (zuidzijde Tijnjedijk).<br /><br /></em></p>
LAST-MODIFIED:20260421T172039Z
LOCATION: Onbekend | Huizum Dorp 67 Leeuwarden
SEQUENCE:0
STATUS:CONFIRMED
SUMMARY:Orgelconcert door Peter van der Zwaag
TRANSP:OPAQUE
END:VEVENT
END:VCALENDAR
