BEGIN:VCALENDAR
PRODID:-//PUBBLE//agenda//NL
VERSION:2.0
METHOD:PUBLISH
BEGIN:VEVENT
DTSTART:20260621T130000Z
DTEND:20260621T170000Z
DTSTAMP:20260421T193915Z
UID:a8480d15-1a8e-4844-b391-497232c4c365
CREATED:20260421T193915Z
NAME:Dag van de Leeuwarder Archeologie grootleeuwarden.nl
X-WR-CALNAME:Dag van de Leeuwarder Archeologie
X-ALT-DESC;FMTTYPE=text/html:<a href='/agenda/2026/6/21/dag-van-de-leeuwarder-archeologie-129512'>/agenda/2026/6/21/dag-van-de-leeuwarder-archeologie-129512</a> || <p><em>Heb je je ooit afgevraagd hoe het leven in middeleeuws Leeuwarden eruitzag? Tijdens de Dag van de Leeuwarder Archeologie krijg je de kans om het verleden tot leven te zien komen. Omdat de werkgroep Archeologie 20 jaar bestaat, hebben we een extra vol programma met tal van boeiende activiteiten voor jong en oud. Onze middeleeuwse gasten van het Vrijstatig Volkje zullen de muziek en het entertainment verzorgen. </em></p>
<p><em>Organisatie HCL i.s.m. de werkgroep Archeologie van Aed Levwerd.</em></p>
DESCRIPTION:<a href='/agenda/2026/6/21/dag-van-de-leeuwarder-archeologie-129512'>/agenda/2026/6/21/dag-van-de-leeuwarder-archeologie-129512</a> || <p><em>Heb je je ooit afgevraagd hoe het leven in middeleeuws Leeuwarden eruitzag? Tijdens de Dag van de Leeuwarder Archeologie krijg je de kans om het verleden tot leven te zien komen. Omdat de werkgroep Archeologie 20 jaar bestaat, hebben we een extra vol programma met tal van boeiende activiteiten voor jong en oud. Onze middeleeuwse gasten van het Vrijstatig Volkje zullen de muziek en het entertainment verzorgen. </em></p>
<p><em>Organisatie HCL i.s.m. de werkgroep Archeologie van Aed Levwerd.</em></p>
LAST-MODIFIED:20260421T193915Z
LOCATION: Onbekend | Groeneweg 1 Leeuwarden
SEQUENCE:0
STATUS:CONFIRMED
SUMMARY:Dag van de Leeuwarder Archeologie
TRANSP:OPAQUE
END:VEVENT
END:VCALENDAR
