BEGIN:VCALENDAR
PRODID:-//PUBBLE//agenda//NL
VERSION:2.0
METHOD:PUBLISH
BEGIN:VEVENT
DTSTART:20260427T143000Z
DTEND:20260427T230000Z
DTSTAMP:20260421T165919Z
UID:16523ca3-f920-4cd5-84a7-bdfe8bf13638
CREATED:20260421T165919Z
NAME:Koningsdag Outdoor Dance Event grootleeuwarden.nl
X-WR-CALNAME:Koningsdag Outdoor Dance Event
X-ALT-DESC;FMTTYPE=text/html:<a href='/agenda/2026/4/27/koningsdag-outdoor-dance-event-129325'>/agenda/2026/4/27/koningsdag-outdoor-dance-event-129325</a> || 
DESCRIPTION:<a href='/agenda/2026/4/27/koningsdag-outdoor-dance-event-129325'>/agenda/2026/4/27/koningsdag-outdoor-dance-event-129325</a> || 
LAST-MODIFIED:20260421T165919Z
LOCATION: Mata Hari plein | Groot Schavernek 19 Leeuwarden
SEQUENCE:0
STATUS:CONFIRMED
SUMMARY:Koningsdag Outdoor Dance Event
TRANSP:OPAQUE
END:VEVENT
END:VCALENDAR
