BEGIN:VCALENDAR
PRODID:-//PUBBLE//agenda//NL
VERSION:2.0
METHOD:PUBLISH
BEGIN:VEVENT
DTSTART:20261109T183000Z
DTEND:20261109T193000Z
DTSTAMP:20260421T193818Z
UID:5b034780-aae1-4e34-98be-d678b1d04999
CREATED:20260421T193818Z
NAME:Ons Kind grootleeuwarden.nl
X-WR-CALNAME:Ons Kind
X-ALT-DESC;FMTTYPE=text/html:<a href='/agenda/2026/11/9/ons-kind-129194'>/agenda/2026/11/9/ons-kind-129194</a> || <p><strong>Je wilt dolgraag dat je kind gelukkig is. Hem of haar écht het beste geven. Van baby tot tiener. Maar hoe bereik je dit?</strong></p>


<p>Welkom in de wereld van&nbsp;<em>Ons Kind</em>. De muziektheater show waaraan psychologen en theatermakers 4 jaar hebben gewerkt. Zodat jij als nooit tevoren ervaart wat jouw kind écht van jou nodig heeft. Om de beste kansen in het leven te krijgen.</p>
<p>Of je nu kinderen hebt, met kinderen werkt, of zelf ooit kind bent geweest; deze show is zo diepgaand dat ze jouw leven voorgoed verandert.</p>
DESCRIPTION:<a href='/agenda/2026/11/9/ons-kind-129194'>/agenda/2026/11/9/ons-kind-129194</a> || <p><strong>Je wilt dolgraag dat je kind gelukkig is. Hem of haar écht het beste geven. Van baby tot tiener. Maar hoe bereik je dit?</strong></p>


<p>Welkom in de wereld van&nbsp;<em>Ons Kind</em>. De muziektheater show waaraan psychologen en theatermakers 4 jaar hebben gewerkt. Zodat jij als nooit tevoren ervaart wat jouw kind écht van jou nodig heeft. Om de beste kansen in het leven te krijgen.</p>
<p>Of je nu kinderen hebt, met kinderen werkt, of zelf ooit kind bent geweest; deze show is zo diepgaand dat ze jouw leven voorgoed verandert.</p>
LAST-MODIFIED:20260421T193818Z
LOCATION: Stadsschouwburg De Harmonie | Ruiterskwartier 4 Leeuwarden
SEQUENCE:0
STATUS:CONFIRMED
SUMMARY:Ons Kind
TRANSP:OPAQUE
END:VEVENT
END:VCALENDAR
