BEGIN:VCALENDAR
PRODID:-//PUBBLE//agenda//NL
VERSION:2.0
METHOD:PUBLISH
BEGIN:VEVENT
DTSTART:20261112T191500Z
DTEND:20261112T204500Z
DTSTAMP:20260421T193915Z
UID:50ad99b8-ea73-47ce-99b5-f1d8cb776add
CREATED:20260421T193915Z
NAME:Trio oude muziek specialisten - ‘Aimez-vous Brahms…?’ grootleeuwarden.nl
X-WR-CALNAME:Trio oude muziek specialisten - ‘Aimez-vous Brahms…?’
X-ALT-DESC;FMTTYPE=text/html:<a href='/agenda/2026/11/12/trio-oude-muziek-specialisten-aimez-vous-brahms--128926'>/agenda/2026/11/12/trio-oude-muziek-specialisten-aimez-vous-brahms--128926</a> || <p>Trio oude muziek specialisten - ‘Aimez-vous Brahms…?’</p>
<p>Ásdís Valdimarsdóttir – altviool</p>
<p>Mick Stirling – cello</p>
<p>Marcel Worms – piano</p>
<p>&nbsp;Een programma geheel gewijd aan de late kamermuziek van Johannes Brahms is zeldzaam.</p>
<p>Programma:</p>
<p>Johannes Brahms (1833 – 1897)</p>
<p>·&nbsp;&nbsp;&nbsp;&nbsp;&nbsp;&nbsp;&nbsp; Sonate voor altviool en piano in f kl.t. op.120 nr.1 (1894)</p>
<p><em>&nbsp; &nbsp; &nbsp; &nbsp; &nbsp; &nbsp;&nbsp;&nbsp;&nbsp; Allegro appassionato –&nbsp;Andante un poco Adagio –&nbsp;Allegretto grazioso –&nbsp;Vivace</em></p>
<p>·&nbsp;&nbsp;&nbsp;&nbsp;&nbsp;&nbsp;&nbsp; Sonate voor cello en piano in F gr.t. op.99 (1886)</p>
<p><em>&nbsp; &nbsp; &nbsp; &nbsp; &nbsp; &nbsp;&nbsp;&nbsp;&nbsp; Allegro vivace –&nbsp;Adagio affettuoso –&nbsp;Allegro passionato –&nbsp;Allegro molto</em></p>
<p>·&nbsp;&nbsp;&nbsp;&nbsp;&nbsp;&nbsp;&nbsp; Trio voor altviool, cello en piano op.114 (1891)</p>
<p><em>&nbsp; &nbsp; &nbsp; &nbsp; &nbsp; &nbsp;&nbsp;&nbsp;&nbsp;&nbsp; Allegro – Adagio – Andantino grazioso – Allegro</em></p>
<p>De componist had al verklaard geen nieuw werk meer te schrijven toen hij in 1891 betoverd werd door&nbsp;het spel van de klarinettist Richard Mühlfeld met drie kamermuziekwerken als resultaat. Van de&nbsp;stukken met&nbsp;klarinet maakte Brahms zelf een&nbsp;bewerking met altviool.</p>
<p>Een unieke kans om u onder te dompelen in het muzikale universum van Brahms in de herfst van zijn leven.</p>
<p>Musici</p>
<p>Asdís Valdimarsdóttir is afkomstig uit IJsland. Zij is hoofdvakdocent altviool aan het Koninklijk Conservatorium Den Haag en speelde in verschillende buitenlandse strijkkwartetten waaronder het Chilingirian Quartet.</p>
<p>Mick Stirling komt uit Engeland. Hij is hoofdvakdocent cello aan het Amsterdams Conservatorium en is aanvoerder van de celli in het Radio Philharmonisch Orkest.</p>
<p>Marcel Worms&nbsp;studeerde aan het Sweelinck Conservatorium te Amsterdam bij Hans Dercksen. Tevens volgde hij lessen bij de Russische pianist Youri Egorov en bij Alicia de Larrocha. Hij trad wereldwijd op, o.a. met zijn project New Blues for Piano.</p>
DESCRIPTION:<a href='/agenda/2026/11/12/trio-oude-muziek-specialisten-aimez-vous-brahms--128926'>/agenda/2026/11/12/trio-oude-muziek-specialisten-aimez-vous-brahms--128926</a> || <p>Trio oude muziek specialisten - ‘Aimez-vous Brahms…?’</p>
<p>Ásdís Valdimarsdóttir – altviool</p>
<p>Mick Stirling – cello</p>
<p>Marcel Worms – piano</p>
<p>&nbsp;Een programma geheel gewijd aan de late kamermuziek van Johannes Brahms is zeldzaam.</p>
<p>Programma:</p>
<p>Johannes Brahms (1833 – 1897)</p>
<p>·&nbsp;&nbsp;&nbsp;&nbsp;&nbsp;&nbsp;&nbsp; Sonate voor altviool en piano in f kl.t. op.120 nr.1 (1894)</p>
<p><em>&nbsp; &nbsp; &nbsp; &nbsp; &nbsp; &nbsp;&nbsp;&nbsp;&nbsp; Allegro appassionato –&nbsp;Andante un poco Adagio –&nbsp;Allegretto grazioso –&nbsp;Vivace</em></p>
<p>·&nbsp;&nbsp;&nbsp;&nbsp;&nbsp;&nbsp;&nbsp; Sonate voor cello en piano in F gr.t. op.99 (1886)</p>
<p><em>&nbsp; &nbsp; &nbsp; &nbsp; &nbsp; &nbsp;&nbsp;&nbsp;&nbsp; Allegro vivace –&nbsp;Adagio affettuoso –&nbsp;Allegro passionato –&nbsp;Allegro molto</em></p>
<p>·&nbsp;&nbsp;&nbsp;&nbsp;&nbsp;&nbsp;&nbsp; Trio voor altviool, cello en piano op.114 (1891)</p>
<p><em>&nbsp; &nbsp; &nbsp; &nbsp; &nbsp; &nbsp;&nbsp;&nbsp;&nbsp;&nbsp; Allegro – Adagio – Andantino grazioso – Allegro</em></p>
<p>De componist had al verklaard geen nieuw werk meer te schrijven toen hij in 1891 betoverd werd door&nbsp;het spel van de klarinettist Richard Mühlfeld met drie kamermuziekwerken als resultaat. Van de&nbsp;stukken met&nbsp;klarinet maakte Brahms zelf een&nbsp;bewerking met altviool.</p>
<p>Een unieke kans om u onder te dompelen in het muzikale universum van Brahms in de herfst van zijn leven.</p>
<p>Musici</p>
<p>Asdís Valdimarsdóttir is afkomstig uit IJsland. Zij is hoofdvakdocent altviool aan het Koninklijk Conservatorium Den Haag en speelde in verschillende buitenlandse strijkkwartetten waaronder het Chilingirian Quartet.</p>
<p>Mick Stirling komt uit Engeland. Hij is hoofdvakdocent cello aan het Amsterdams Conservatorium en is aanvoerder van de celli in het Radio Philharmonisch Orkest.</p>
<p>Marcel Worms&nbsp;studeerde aan het Sweelinck Conservatorium te Amsterdam bij Hans Dercksen. Tevens volgde hij lessen bij de Russische pianist Youri Egorov en bij Alicia de Larrocha. Hij trad wereldwijd op, o.a. met zijn project New Blues for Piano.</p>
LAST-MODIFIED:20260421T193915Z
LOCATION: Doopsgezinde kerk | Wirdumerdijk 18 Leeuwarden
SEQUENCE:0
STATUS:CONFIRMED
SUMMARY:Trio oude muziek specialisten - ‘Aimez-vous Brahms…?’
TRANSP:OPAQUE
END:VEVENT
END:VCALENDAR
