BEGIN:VCALENDAR
PRODID:-//PUBBLE//agenda//NL
VERSION:2.0
METHOD:PUBLISH
BEGIN:VEVENT
DTSTART:20261220T140000Z
DTEND:20261220T163000Z
DTSTAMP:20260421T180834Z
UID:b78d8448-7103-474d-9150-5cd3f701456b
CREATED:20260421T180834Z
NAME:Luthers Bach Ensemble -  Georg Friedrich Händel, Messiah HWV 56 grootleeuwarden.nl
X-WR-CALNAME:Luthers Bach Ensemble -  Georg Friedrich Händel, Messiah HWV 56
X-ALT-DESC;FMTTYPE=text/html:<a href='/agenda/2026/12/20/luthers-bach-ensemble-georg-friedrich-handel-messiah-hwv-56-128925'>/agenda/2026/12/20/luthers-bach-ensemble-georg-friedrich-handel-messiah-hwv-56-128925</a> || <p>Luthers Bach Ensemble</p>
<p>Georg Friedrich Händel, Messiah HWV 56</p>
<p>Luthers Bach Ensemble (kleinkoor, solisten &amp; barok-orkest) o.l.v. Tymen Jan Bronda</p>
<p>Viola Blache –&nbsp; sopraan ; Robert Kuizenga – countertenor ; Olivier Kemler – tenor ;David Greco – bas</p>
<p>De&nbsp;<strong>Messiah van Georg Friedrich Händel</strong>&nbsp;is wereldwijd het meest geliefde kerstoratorium. Dit meesterwerk, met het beroemde&nbsp;<strong>‘Hallelujah’-koor</strong>, is een tijdloze viering van hoop, verlossing en vreugde. Elk jaar opnieuw raken duizenden bezoekers ontroerd door de muziek en de krachtige boodschap van Händels Messiah.</p>
<p>Ervaar de tijdloze pracht van Händels&nbsp;<em>Messiah</em>&nbsp;in een uitvoering die de luisteraar meeneemt naar de historische klankwereld van de 18e eeuw. Het&nbsp;<strong>Luthers Bach Ensemble</strong>, bekend om zijn diepe kennis van historische uitvoeringspraktijk en muzikale finesse, brengt dit meesterwerk tot leven met een energieke en authentieke benadering.</p>
<p>In eerdere uitvoeringen oogstte het ensemble&nbsp;<strong>4- en 5-sterrenrecensies</strong>&nbsp;voor de helderheid, precisie en emotionele kracht van de uitvoering. Voor deze kerstspecial zijn&nbsp;<strong>internationaal vermaarde solisten</strong>&nbsp;aangetrokken, die met hun vocale virtuositeit de teksten van&nbsp;<em>Messiah</em>&nbsp;op indrukwekkende wijze tot expressie brengen.</p>
<p>Laat u meevoeren door de sprankelende barokklanken, het dramatische contrast van koor en orkest, en de diepe ontroering van Händels meesterlijke muziek –&nbsp;<em>een kerstervaring die u niet mag missen.</em></p>
DESCRIPTION:<a href='/agenda/2026/12/20/luthers-bach-ensemble-georg-friedrich-handel-messiah-hwv-56-128925'>/agenda/2026/12/20/luthers-bach-ensemble-georg-friedrich-handel-messiah-hwv-56-128925</a> || <p>Luthers Bach Ensemble</p>
<p>Georg Friedrich Händel, Messiah HWV 56</p>
<p>Luthers Bach Ensemble (kleinkoor, solisten &amp; barok-orkest) o.l.v. Tymen Jan Bronda</p>
<p>Viola Blache –&nbsp; sopraan ; Robert Kuizenga – countertenor ; Olivier Kemler – tenor ;David Greco – bas</p>
<p>De&nbsp;<strong>Messiah van Georg Friedrich Händel</strong>&nbsp;is wereldwijd het meest geliefde kerstoratorium. Dit meesterwerk, met het beroemde&nbsp;<strong>‘Hallelujah’-koor</strong>, is een tijdloze viering van hoop, verlossing en vreugde. Elk jaar opnieuw raken duizenden bezoekers ontroerd door de muziek en de krachtige boodschap van Händels Messiah.</p>
<p>Ervaar de tijdloze pracht van Händels&nbsp;<em>Messiah</em>&nbsp;in een uitvoering die de luisteraar meeneemt naar de historische klankwereld van de 18e eeuw. Het&nbsp;<strong>Luthers Bach Ensemble</strong>, bekend om zijn diepe kennis van historische uitvoeringspraktijk en muzikale finesse, brengt dit meesterwerk tot leven met een energieke en authentieke benadering.</p>
<p>In eerdere uitvoeringen oogstte het ensemble&nbsp;<strong>4- en 5-sterrenrecensies</strong>&nbsp;voor de helderheid, precisie en emotionele kracht van de uitvoering. Voor deze kerstspecial zijn&nbsp;<strong>internationaal vermaarde solisten</strong>&nbsp;aangetrokken, die met hun vocale virtuositeit de teksten van&nbsp;<em>Messiah</em>&nbsp;op indrukwekkende wijze tot expressie brengen.</p>
<p>Laat u meevoeren door de sprankelende barokklanken, het dramatische contrast van koor en orkest, en de diepe ontroering van Händels meesterlijke muziek –&nbsp;<em>een kerstervaring die u niet mag missen.</em></p>
LAST-MODIFIED:20260421T180834Z
LOCATION: Grote of Jacobijner kerk | Bredeplaats 4 Leeuwarden
SEQUENCE:0
STATUS:CONFIRMED
SUMMARY:Luthers Bach Ensemble -  Georg Friedrich Händel, Messiah HWV 56
TRANSP:OPAQUE
END:VEVENT
END:VCALENDAR
