BEGIN:VCALENDAR
PRODID:-//PUBBLE//agenda//NL
VERSION:2.0
METHOD:PUBLISH
BEGIN:VEVENT
DTSTART:20261211T191500Z
DTEND:20261211T203000Z
DTSTAMP:20260421T180818Z
UID:7891d015-90cd-490a-bbfa-6cf6e2fb209f
CREATED:20260421T180818Z
NAME:Holland Baroque & Les Itinérantes – ‘Noël Nomade’ grootleeuwarden.nl
X-WR-CALNAME:Holland Baroque & Les Itinérantes – ‘Noël Nomade’
X-ALT-DESC;FMTTYPE=text/html:<a href='/agenda/2026/12/11/holland-baroque-les-itinerantes-noel-nomade-128924'>/agenda/2026/12/11/holland-baroque-les-itinerantes-noel-nomade-128924</a> || <p>Holland Baroque &amp; Les Itinérantes – ‘Noël Nomade’&nbsp;</p>
<p>Een kerstconcert met barokke grandeur en volksmuziek – licht én hoop staan centraal.</p>
<p>Naast alle traditionele kerstconcerten is dit een pareltje!</p>
<p>Programma:</p>
<p>Traditionals, Airs de Cours</p>
<p>Werken van Etienne Moulinié, Charles Tessier, Antoinne Boesset</p>
<p>Het Franse vocale trio&nbsp;<strong>Les Itinérantes</strong>&nbsp;(de reizigers) behoort tot de nieuwste generatie Franse ensembles dat folklore en oude muziek van over de hele wereld nieuw leven inblaast. Manon Cousin, Pauline Langlois de Swarte en Élodie Pont versmelten in hun programma’s barok met folk. In&nbsp;<em>Noël Nomade</em> ontmoeten barokke grandeur en volksmuziek elkaar. In dit kerstfeest klinkt een echo van oudere midwinterrituelen waarin licht en hoop centraal staan.</p>
<p>De musici van Holland Baroque brengen waarvoor zij op handen worden gedragen: energie, durf en verfijnde arrangementen. Samen met Les Itinérantes laten zij zien dat barok niet oud is, het is van nu.</p>
<p>Holland Baroque</p>
<p>Met onvermoeibare belangstelling verrijkt Holland Baroque de muzikale canon. Het orkest benadert de partituur als een onvoltooid kunstwerk: met kennis, kunde, fantasie én speelsheid wordt barok een nieuwe belevenis. Hiermee heeft Holland Baroque haar eigen herkenbare klank gevonden.</p>
<p>Van Bach tot gospel, van jazz tot gregoriaans; Holland Baroque is met haar bijzondere programma’s een graag geziene gast op de (inter)nationale podia en is winnaar van onder andere winnaar van twee Edisons en twee REMA awards. Sinds haar oprichting zet Holland Baroque zich in voor educatie met schoolconcerten, haar Samama Fellowship en workshops aan mbo- en hbo-opleidingen.</p>
DESCRIPTION:<a href='/agenda/2026/12/11/holland-baroque-les-itinerantes-noel-nomade-128924'>/agenda/2026/12/11/holland-baroque-les-itinerantes-noel-nomade-128924</a> || <p>Holland Baroque &amp; Les Itinérantes – ‘Noël Nomade’&nbsp;</p>
<p>Een kerstconcert met barokke grandeur en volksmuziek – licht én hoop staan centraal.</p>
<p>Naast alle traditionele kerstconcerten is dit een pareltje!</p>
<p>Programma:</p>
<p>Traditionals, Airs de Cours</p>
<p>Werken van Etienne Moulinié, Charles Tessier, Antoinne Boesset</p>
<p>Het Franse vocale trio&nbsp;<strong>Les Itinérantes</strong>&nbsp;(de reizigers) behoort tot de nieuwste generatie Franse ensembles dat folklore en oude muziek van over de hele wereld nieuw leven inblaast. Manon Cousin, Pauline Langlois de Swarte en Élodie Pont versmelten in hun programma’s barok met folk. In&nbsp;<em>Noël Nomade</em> ontmoeten barokke grandeur en volksmuziek elkaar. In dit kerstfeest klinkt een echo van oudere midwinterrituelen waarin licht en hoop centraal staan.</p>
<p>De musici van Holland Baroque brengen waarvoor zij op handen worden gedragen: energie, durf en verfijnde arrangementen. Samen met Les Itinérantes laten zij zien dat barok niet oud is, het is van nu.</p>
<p>Holland Baroque</p>
<p>Met onvermoeibare belangstelling verrijkt Holland Baroque de muzikale canon. Het orkest benadert de partituur als een onvoltooid kunstwerk: met kennis, kunde, fantasie én speelsheid wordt barok een nieuwe belevenis. Hiermee heeft Holland Baroque haar eigen herkenbare klank gevonden.</p>
<p>Van Bach tot gospel, van jazz tot gregoriaans; Holland Baroque is met haar bijzondere programma’s een graag geziene gast op de (inter)nationale podia en is winnaar van onder andere winnaar van twee Edisons en twee REMA awards. Sinds haar oprichting zet Holland Baroque zich in voor educatie met schoolconcerten, haar Samama Fellowship en workshops aan mbo- en hbo-opleidingen.</p>
LAST-MODIFIED:20260421T180818Z
LOCATION: Doopsgezinde kerk | Wirdumerdijk 18 Leeuwarden
SEQUENCE:0
STATUS:CONFIRMED
SUMMARY:Holland Baroque & Les Itinérantes – ‘Noël Nomade’
TRANSP:OPAQUE
END:VEVENT
END:VCALENDAR
