BEGIN:VCALENDAR
PRODID:-//PUBBLE//agenda//NL
VERSION:2.0
METHOD:PUBLISH
BEGIN:VEVENT
DTSTART:20260918T201500Z
DTEND:20260918T214500Z
DTSTAMP:20260421T200207Z
UID:9219c09e-3722-4bda-a9db-b0bb81f7827e
CREATED:20260421T200207Z
NAME:Ragazze Quartet – ‘Voces Intimae’ grootleeuwarden.nl
X-WR-CALNAME:Ragazze Quartet – ‘Voces Intimae’
X-ALT-DESC;FMTTYPE=text/html:<a href='/agenda/2026/9/18/ragazze-quartet-voces-intimae-128888'>/agenda/2026/9/18/ragazze-quartet-voces-intimae-128888</a> || <p>Ragazze Quartet – ‘Voces Intimae’</p>
<p>Ragazze Quartet</p>
<p>Rosa Arnold – viool</p>
<p>Jeanita Vriens-van Tongeren – viool</p>
<p>&nbsp;Annemijn Bergkotte -altviool</p>
<p>Nathalie Flintrop – cello</p>
<p>In&nbsp;<em>Voces Intimae&nbsp;</em>verweeft het Ragazze Quartet drie muzikale stemmen uit het noorden: de tijdloze kracht van de Scandinavische volksmuziek, de abstracte, haast fysieke poëzie van de recent overleden Finse componiste Kaija Saariaho en de introspectieve lyriek van Jean Sibelius. Volksmelodieën, doorgegeven via herinnering en traditie, vormen de wortels van het programma.</p>
<p>&nbsp;Programma o.a.</p>
<p>·&nbsp;&nbsp;&nbsp;&nbsp;&nbsp;&nbsp;&nbsp; Kaija Saariaho – Terra Memoria for String Quartet (2007)</p>
<p>·&nbsp;&nbsp;&nbsp;&nbsp;&nbsp;&nbsp;&nbsp; Jean Sibelius – String Quartet in D minor, Op. 56, Voces Intimae (1908)</p>
<p>·&nbsp;&nbsp;&nbsp;&nbsp;&nbsp;&nbsp;&nbsp; Scandinavische volksmuziek</p>
<p>Strijkkwartet <strong><em>Voces Intimae</em></strong>&nbsp;van Jean Sibelius vormt een intiem gesprek tussen stemmen van verleden en heden. De titel verwijst zowel naar de intimiteit van het strijkkwartet als naar de innerlijkheid stem van Sibelius. Een werk vol weemoed, reflectie en innerlijke rust met vele verwijzingen naar de volksmuziektraditie.</p>
<p>Waar Sibelius’&nbsp;<em>Voces Intimae&nbsp;</em>verwijst naar een intiem gesprek tussen stemmen van verleden en heden, onderzoekt Saariaho’s strijkkwartet&nbsp;<strong><em>Terra Memoria</em></strong>&nbsp;hoe herinnering in klank voortleeft: veranderlijk, tastbaar, soms pijnlijk helder. Zij beschrijft hoe we de stemmen van degenen die er niet meer zijn blijven horen: hun leven is compleet, maar ze leven nog voort in ons geheugen en onze gevoelens over hen blijven veranderen.</p>
<p>Dat Scandinavië een rijke volksmuziek-traditie heeft, blijkt uit de enorme hoeveelheid prachtige, vaak melancholische stukken die door mondelinge tradities en collectieve herinneringen zijn overgeleverd. Ze vertellen verhalen over de natuur, de zee, en menselijke emoties. De Ragazze spelen een selectie arrangementen uit ‘het Ierland van het noorden’.</p>
DESCRIPTION:<a href='/agenda/2026/9/18/ragazze-quartet-voces-intimae-128888'>/agenda/2026/9/18/ragazze-quartet-voces-intimae-128888</a> || <p>Ragazze Quartet – ‘Voces Intimae’</p>
<p>Ragazze Quartet</p>
<p>Rosa Arnold – viool</p>
<p>Jeanita Vriens-van Tongeren – viool</p>
<p>&nbsp;Annemijn Bergkotte -altviool</p>
<p>Nathalie Flintrop – cello</p>
<p>In&nbsp;<em>Voces Intimae&nbsp;</em>verweeft het Ragazze Quartet drie muzikale stemmen uit het noorden: de tijdloze kracht van de Scandinavische volksmuziek, de abstracte, haast fysieke poëzie van de recent overleden Finse componiste Kaija Saariaho en de introspectieve lyriek van Jean Sibelius. Volksmelodieën, doorgegeven via herinnering en traditie, vormen de wortels van het programma.</p>
<p>&nbsp;Programma o.a.</p>
<p>·&nbsp;&nbsp;&nbsp;&nbsp;&nbsp;&nbsp;&nbsp; Kaija Saariaho – Terra Memoria for String Quartet (2007)</p>
<p>·&nbsp;&nbsp;&nbsp;&nbsp;&nbsp;&nbsp;&nbsp; Jean Sibelius – String Quartet in D minor, Op. 56, Voces Intimae (1908)</p>
<p>·&nbsp;&nbsp;&nbsp;&nbsp;&nbsp;&nbsp;&nbsp; Scandinavische volksmuziek</p>
<p>Strijkkwartet <strong><em>Voces Intimae</em></strong>&nbsp;van Jean Sibelius vormt een intiem gesprek tussen stemmen van verleden en heden. De titel verwijst zowel naar de intimiteit van het strijkkwartet als naar de innerlijkheid stem van Sibelius. Een werk vol weemoed, reflectie en innerlijke rust met vele verwijzingen naar de volksmuziektraditie.</p>
<p>Waar Sibelius’&nbsp;<em>Voces Intimae&nbsp;</em>verwijst naar een intiem gesprek tussen stemmen van verleden en heden, onderzoekt Saariaho’s strijkkwartet&nbsp;<strong><em>Terra Memoria</em></strong>&nbsp;hoe herinnering in klank voortleeft: veranderlijk, tastbaar, soms pijnlijk helder. Zij beschrijft hoe we de stemmen van degenen die er niet meer zijn blijven horen: hun leven is compleet, maar ze leven nog voort in ons geheugen en onze gevoelens over hen blijven veranderen.</p>
<p>Dat Scandinavië een rijke volksmuziek-traditie heeft, blijkt uit de enorme hoeveelheid prachtige, vaak melancholische stukken die door mondelinge tradities en collectieve herinneringen zijn overgeleverd. Ze vertellen verhalen over de natuur, de zee, en menselijke emoties. De Ragazze spelen een selectie arrangementen uit ‘het Ierland van het noorden’.</p>
LAST-MODIFIED:20260421T200207Z
LOCATION: Doopsgezinde kerk | Wirdumerdijk 18 Leeuwarden
SEQUENCE:0
STATUS:CONFIRMED
SUMMARY:Ragazze Quartet – ‘Voces Intimae’
TRANSP:OPAQUE
END:VEVENT
END:VCALENDAR
