BEGIN:VCALENDAR
PRODID:-//PUBBLE//agenda//NL
VERSION:2.0
METHOD:PUBLISH
BEGIN:VEVENT
DTSTART:20260427T090000Z
DTEND:20260427T210000Z
DTSTAMP:20260421T172135Z
UID:1aae1104-5110-4a69-96cd-2c9b04cac842
CREATED:20260421T172135Z
NAME:TOON Luisterbar Koningsdag grootleeuwarden.nl
X-WR-CALNAME:TOON Luisterbar Koningsdag
X-ALT-DESC;FMTTYPE=text/html:<a href='/agenda/2026/4/27/toon-luisterbar-koningsdag-128690'>/agenda/2026/4/27/toon-luisterbar-koningsdag-128690</a> || <p>Tijdens Koningsdag is er een mooi in-store event bij TOON Luisterbar. Kom langs voor een heerlijke koffie en luister en/of dans op de muziek van onze vette DJ Line-up.</p>
DESCRIPTION:<a href='/agenda/2026/4/27/toon-luisterbar-koningsdag-128690'>/agenda/2026/4/27/toon-luisterbar-koningsdag-128690</a> || <p>Tijdens Koningsdag is er een mooi in-store event bij TOON Luisterbar. Kom langs voor een heerlijke koffie en luister en/of dans op de muziek van onze vette DJ Line-up.</p>
LAST-MODIFIED:20260421T172135Z
LOCATION: TOON Luisterbar | Kleine Kerkstraat 11 Leeuwarden
SEQUENCE:0
STATUS:CONFIRMED
SUMMARY:TOON Luisterbar Koningsdag
TRANSP:OPAQUE
END:VEVENT
END:VCALENDAR
