BEGIN:VCALENDAR
PRODID:-//PUBBLE//agenda//NL
VERSION:2.0
METHOD:PUBLISH
BEGIN:VEVENT
DTSTART:20260518T183000Z
DTEND:20260518T193000Z
DTSTAMP:20260421T180947Z
UID:6fcb5464-d726-480c-a6a7-9a805c2fc6f2
CREATED:20260421T180947Z
NAME:Kinderkledingruil Het Gele Laarsje grootleeuwarden.nl
X-WR-CALNAME:Kinderkledingruil Het Gele Laarsje
X-ALT-DESC;FMTTYPE=text/html:<a href='/agenda/2026/5/18/kinderkledingruil-het-gele-laarsje-128444'>/agenda/2026/5/18/kinderkledingruil-het-gele-laarsje-128444</a> || <p>Preloved babykleertjes kopen en kinderkleding en -schoenen ruilen<br /><br />Dit kan elke 3e maandag van de maand bij Het Gele Laarsje op hogeschool NHL Stenden.<br /><br />Leeuwarder mama’s, papa’s, oma’s en opa’s hebben zich verenigd om kinderkleding in Friesland circulairder te maken. Door de maandelijkse ruil blijft kinderkleding lokaal en wordt het veel vaker gebruikt.<br /><br />Kleine maatjes - t/m maat 62 - worden ook verkocht om daarmee de inkoop van de grootste maatjes te bekostigen. Door hier je preloved babykleertjes te kopen houd je de ruil dus levend.<br /><br />In de eerste drie edities werder al 1576 items geruild!<br /><br />Check de website voor de spelregels en de Instagram @hetgelelaarsje voor een inkijkje.<br /><br />Je bent ontzettend welkom!</p>
DESCRIPTION:<a href='/agenda/2026/5/18/kinderkledingruil-het-gele-laarsje-128444'>/agenda/2026/5/18/kinderkledingruil-het-gele-laarsje-128444</a> || <p>Preloved babykleertjes kopen en kinderkleding en -schoenen ruilen<br /><br />Dit kan elke 3e maandag van de maand bij Het Gele Laarsje op hogeschool NHL Stenden.<br /><br />Leeuwarder mama’s, papa’s, oma’s en opa’s hebben zich verenigd om kinderkleding in Friesland circulairder te maken. Door de maandelijkse ruil blijft kinderkleding lokaal en wordt het veel vaker gebruikt.<br /><br />Kleine maatjes - t/m maat 62 - worden ook verkocht om daarmee de inkoop van de grootste maatjes te bekostigen. Door hier je preloved babykleertjes te kopen houd je de ruil dus levend.<br /><br />In de eerste drie edities werder al 1576 items geruild!<br /><br />Check de website voor de spelregels en de Instagram @hetgelelaarsje voor een inkijkje.<br /><br />Je bent ontzettend welkom!</p>
LAST-MODIFIED:20260421T180947Z
LOCATION: NHL Stenden - Experience Center | Rengerslaan 10 Leeuwarden
SEQUENCE:0
STATUS:CONFIRMED
SUMMARY:Kinderkledingruil Het Gele Laarsje
TRANSP:OPAQUE
END:VEVENT
END:VCALENDAR
