BEGIN:VCALENDAR
PRODID:-//PUBBLE//agenda//NL
VERSION:2.0
METHOD:PUBLISH
BEGIN:VEVENT
DTSTART:20260530T201500Z
DTEND:20260530T211500Z
DTSTAMP:20260421T182829Z
UID:95e9299e-4828-494d-927c-a14b210e56b7
CREATED:20260421T182829Z
NAME:SILENCE- Rishiraj Kulkarni & Froukje Zijlstra grootleeuwarden.nl
X-WR-CALNAME:SILENCE- Rishiraj Kulkarni & Froukje Zijlstra
X-ALT-DESC;FMTTYPE=text/html:<a href='/agenda/2026/5/30/silence-rishiraj-kulkarni-froukje-zijlstra-128279'>/agenda/2026/5/30/silence-rishiraj-kulkarni-froukje-zijlstra-128279</a> || <p>In <em>SILENCE</em> komen muziek en dans samen in een bijzondere, zintuiglijke performance. Handpanmuzikant Rishiraj Kulkarni en danser Froukje Zijlstra onderzoeken samen de kracht en betekenis van stilte.</p>
<p>Vanuit hun verschillende achtergronden ontstaat een intuïtieve dialoog tussen klank en beweging. Ritmische en melodische percussie vloeien samen met fysieke expressie, waardoor een hypnotiserend samenspel ontstaat. In vier verschillende delen verkennen ze wat stilte kan zijn: rust, spanning, verbinding en reflectie.</p>
<p><em>SILENCE</em> nodigt je uit om even te vertragen in een wereld die altijd doorgaat. Om echt te luisteren. Te kijken. En stil te staan bij wat er ontstaat wanneer alles even wegvalt.</p>
<p>Een meeslepende audiovisuele ervaring die je niet alleen ziet en hoort, maar vooral voelt.</p>
DESCRIPTION:<a href='/agenda/2026/5/30/silence-rishiraj-kulkarni-froukje-zijlstra-128279'>/agenda/2026/5/30/silence-rishiraj-kulkarni-froukje-zijlstra-128279</a> || <p>In <em>SILENCE</em> komen muziek en dans samen in een bijzondere, zintuiglijke performance. Handpanmuzikant Rishiraj Kulkarni en danser Froukje Zijlstra onderzoeken samen de kracht en betekenis van stilte.</p>
<p>Vanuit hun verschillende achtergronden ontstaat een intuïtieve dialoog tussen klank en beweging. Ritmische en melodische percussie vloeien samen met fysieke expressie, waardoor een hypnotiserend samenspel ontstaat. In vier verschillende delen verkennen ze wat stilte kan zijn: rust, spanning, verbinding en reflectie.</p>
<p><em>SILENCE</em> nodigt je uit om even te vertragen in een wereld die altijd doorgaat. Om echt te luisteren. Te kijken. En stil te staan bij wat er ontstaat wanneer alles even wegvalt.</p>
<p>Een meeslepende audiovisuele ervaring die je niet alleen ziet en hoort, maar vooral voelt.</p>
LAST-MODIFIED:20260421T182829Z
LOCATION: Onbekend | Bagijnestraat 59 Leeuwarden
SEQUENCE:0
STATUS:CONFIRMED
SUMMARY:SILENCE- Rishiraj Kulkarni & Froukje Zijlstra
TRANSP:OPAQUE
END:VEVENT
END:VCALENDAR
