BEGIN:VCALENDAR
PRODID:-//PUBBLE//agenda//NL
VERSION:2.0
METHOD:PUBLISH
BEGIN:VEVENT
DTSTART:20260228T230000Z
DTEND:20280229T230000Z
DTSTAMP:20260421T141950Z
UID:50917953-1e30-48eb-963d-1fb71b3862d8
CREATED:20260421T141950Z
NAME:Vaararrangementen grootleeuwarden.nl
X-WR-CALNAME:Vaararrangementen
X-ALT-DESC;FMTTYPE=text/html:<a href='/agenda/2026/3/1/vaararrangementen-127954'>/agenda/2026/3/1/vaararrangementen-127954</a> || <p>Een sup clinic onder leiding van ervaren instructeurs, een speurprogramma met sloepjes door pittoresk Leeuwarden, de borrelboot of een praamvaart door de grachten van Leeuwarden met gids, Leeuwarden City Events biedt een scala aan vaararrangementen op het water.</p>
<p><strong>Belangrijk</strong></p>
<p>Arrangementen altijd van tevoren reserveren<br />Kinderen altijd onder begeleiding van volwassenen<br />Klik voor een overzicht op onze <a href="https://www.leeuwardencityevents.nl/uitjes/vaararrangementen/" target="_blank">Vaararrangementen&nbsp;</a></p>
DESCRIPTION:<a href='/agenda/2026/3/1/vaararrangementen-127954'>/agenda/2026/3/1/vaararrangementen-127954</a> || <p>Een sup clinic onder leiding van ervaren instructeurs, een speurprogramma met sloepjes door pittoresk Leeuwarden, de borrelboot of een praamvaart door de grachten van Leeuwarden met gids, Leeuwarden City Events biedt een scala aan vaararrangementen op het water.</p>
<p><strong>Belangrijk</strong></p>
<p>Arrangementen altijd van tevoren reserveren<br />Kinderen altijd onder begeleiding van volwassenen<br />Klik voor een overzicht op onze <a href="https://www.leeuwardencityevents.nl/uitjes/vaararrangementen/" target="_blank">Vaararrangementen&nbsp;</a></p>
LAST-MODIFIED:20260421T141950Z
LOCATION: Onbekend | Blokhuisplein 40 Leeuwarden
SEQUENCE:0
STATUS:CONFIRMED
SUMMARY:Vaararrangementen
TRANSP:OPAQUE
END:VEVENT
END:VCALENDAR
