BEGIN:VCALENDAR
PRODID:-//PUBBLE//agenda//NL
VERSION:2.0
METHOD:PUBLISH
BEGIN:VEVENT
DTSTART:20260526T200000Z
DTEND:20260526T213000Z
DTSTAMP:20260421T182751Z
UID:75785974-fa2b-4885-993d-87ac30a5305a
CREATED:20260421T182751Z
NAME:SGL Pinkstertiisdei-lezing Vincent Robijn I Het Fries is dood, leve het Nedersaksisch! grootleeuwarden.nl
X-WR-CALNAME:SGL Pinkstertiisdei-lezing Vincent Robijn I Het Fries is dood, leve het Nedersaksisch!
X-ALT-DESC;FMTTYPE=text/html:<a href='/agenda/2026/5/26/sgl-pinkstertiisdei-lezing-vincent-robijn-i-het-fries-is-dood-leve-het-nedersaksisch--127953'>/agenda/2026/5/26/sgl-pinkstertiisdei-lezing-vincent-robijn-i-het-fries-is-dood-leve-het-nedersaksisch--127953</a> || <p><em>De Richthofenkolleksje als bron voor een taal(r)evolutie.</em> &nbsp;</p>
<p>De <a href="https://www.richthofen.nl/" target="_blank" rel="noreferrer noopener">Richthofenkolleksje</a>&nbsp;is een unieke verzameling handschriften met Oudfriese rechtsteksten. Terecht dat Fryslân trots is op dit door UNESCO erkende bronnencorpus. Maar de Friezen zouden niet het alleenrecht op de Richthofenkolleksje moeten hebben. Een deel van deze handschriften is namelijk niet in het Fries geschreven, maar in een vroege vorm van het Nedersaksisch; de taal van Oost-Nederland die inmiddels een officiële erkenning heeft als regionale taal binnen Nederland. Vincent Robijn houdt op 26 mei in de Pinkstertiisdei-lezing een pleidooi voor het verbreden van de waardering van de Richthofenkolleksje, over de grenzen van het Friese taalgebied heen. &nbsp;</p>
<p>Vincent Robijn is opgeleid als middeleeuws historicus en archivaris. Hij is werkzaam als directeur van Collectie Overijssel, de archieforganisatie van Overijssel. Hij leerde Fries van zijn pake en beppe en van de platen van Teake van der Meer, maar spreekt het liefst Amelands. &nbsp;</p>
<p>Programma:<br />19.30 inloop<br />20.00 lezing Vincent Robijn<br />21.00 discussie &nbsp;</p>
<p>De lezing is in het Nederlands en Amelands en gratis bij te wonen. Wel vragen we je een kaartje te reserveren in verband met de zaalcapaciteit.<br /><br />Studium Generale Leeuwarden (SGL) maakt spraakmakende onderwerpen toegankelijk voor publiek. Bij voorkeur door ‘live’ ontmoetingen en met het geven van lezingen van gerenommeerde wetenschappers en deskundigen. SGL is een initiatief van Campus Fryslân - University of Groningen, NHL Stenden en Tresoar.</p>
DESCRIPTION:<a href='/agenda/2026/5/26/sgl-pinkstertiisdei-lezing-vincent-robijn-i-het-fries-is-dood-leve-het-nedersaksisch--127953'>/agenda/2026/5/26/sgl-pinkstertiisdei-lezing-vincent-robijn-i-het-fries-is-dood-leve-het-nedersaksisch--127953</a> || <p><em>De Richthofenkolleksje als bron voor een taal(r)evolutie.</em> &nbsp;</p>
<p>De <a href="https://www.richthofen.nl/" target="_blank" rel="noreferrer noopener">Richthofenkolleksje</a>&nbsp;is een unieke verzameling handschriften met Oudfriese rechtsteksten. Terecht dat Fryslân trots is op dit door UNESCO erkende bronnencorpus. Maar de Friezen zouden niet het alleenrecht op de Richthofenkolleksje moeten hebben. Een deel van deze handschriften is namelijk niet in het Fries geschreven, maar in een vroege vorm van het Nedersaksisch; de taal van Oost-Nederland die inmiddels een officiële erkenning heeft als regionale taal binnen Nederland. Vincent Robijn houdt op 26 mei in de Pinkstertiisdei-lezing een pleidooi voor het verbreden van de waardering van de Richthofenkolleksje, over de grenzen van het Friese taalgebied heen. &nbsp;</p>
<p>Vincent Robijn is opgeleid als middeleeuws historicus en archivaris. Hij is werkzaam als directeur van Collectie Overijssel, de archieforganisatie van Overijssel. Hij leerde Fries van zijn pake en beppe en van de platen van Teake van der Meer, maar spreekt het liefst Amelands. &nbsp;</p>
<p>Programma:<br />19.30 inloop<br />20.00 lezing Vincent Robijn<br />21.00 discussie &nbsp;</p>
<p>De lezing is in het Nederlands en Amelands en gratis bij te wonen. Wel vragen we je een kaartje te reserveren in verband met de zaalcapaciteit.<br /><br />Studium Generale Leeuwarden (SGL) maakt spraakmakende onderwerpen toegankelijk voor publiek. Bij voorkeur door ‘live’ ontmoetingen en met het geven van lezingen van gerenommeerde wetenschappers en deskundigen. SGL is een initiatief van Campus Fryslân - University of Groningen, NHL Stenden en Tresoar.</p>
LAST-MODIFIED:20260421T182751Z
LOCATION: Rijksuniversiteit Groningen/Campus Fryslân | Wirdumerdijk 34 Leeuwarden
SEQUENCE:0
STATUS:CONFIRMED
SUMMARY:SGL Pinkstertiisdei-lezing Vincent Robijn I Het Fries is dood, leve het Nedersaksisch!
TRANSP:OPAQUE
END:VEVENT
END:VCALENDAR
