BEGIN:VCALENDAR
PRODID:-//PUBBLE//agenda//NL
VERSION:2.0
METHOD:PUBLISH
BEGIN:VEVENT
DTSTART:20260424T000000Z
DTEND:20260424T220000Z
DTSTAMP:20260424T202654Z
UID:5f9864d0-d9e3-4e14-b402-018b2cc8d942
CREATED:20260424T202654Z
NAME:Poetry Circle: Circle Session 058 X 038 grootleeuwarden.nl
X-WR-CALNAME:Poetry Circle: Circle Session 058 X 038
X-ALT-DESC;FMTTYPE=text/html:<a href='/agenda/2026/4/24/poetry-circle-circle-session-058-x-038-127952'>/agenda/2026/4/24/poetry-circle-circle-session-058-x-038-127952</a> || <p>Op vrijdag 24 april wordt Podium Explore omgetoverd tot een huiskamer vol spoken word tijdens de&nbsp;<em>Circle Session</em>. Er komen opkomende spoken word artiesten van Poetry Circle Zwolle op bezoek, die samen met de talenten van Poetry Circle Leeuwarden hun nieuwste werk zullen laten horen. We sluiten de avond af met een open mic, waarbij iedereen (dus jij ook!) de microfoon mag pakken. Bereid je voor op alles wat er borrelt binnen de nieuwste garde van de spoken word scene: rake metaforen, activistische statements én een hele hoop liefde.&nbsp;</p>
<p>Poetry Circle is hét landelijke platform voor spoken word, met circles in acht verschillende steden. Iedere circle heeft wekelijks les in hun eigen stad, en tijdens een Circle Session komen er deelnemers uit twee verschillende circles samen. Deze avonden worden traditiegetrouw afgesloten met een open&nbsp;mic, waar elk talent welkom is. Circle&nbsp;Sessions&nbsp;helpen beginnende spoken word-artiesten podiumervaring op te doen en bieden de kans andere artiesten te leren kennen. De ideale plek om een beginnend netwerk op te bouwen!&nbsp;</p>
<p>Op vrijdag 24 april komt de Circle van Zwolle op bezoek, en vanuit Leeuwarden zie je onze eigen Ace, Aïsha, Aline, Brigitte, Cis, Daria, Emily, Esmee, Froukje, Gaia, Julian, Lotte, Nashara en Zee.</p>
DESCRIPTION:<a href='/agenda/2026/4/24/poetry-circle-circle-session-058-x-038-127952'>/agenda/2026/4/24/poetry-circle-circle-session-058-x-038-127952</a> || <p>Op vrijdag 24 april wordt Podium Explore omgetoverd tot een huiskamer vol spoken word tijdens de&nbsp;<em>Circle Session</em>. Er komen opkomende spoken word artiesten van Poetry Circle Zwolle op bezoek, die samen met de talenten van Poetry Circle Leeuwarden hun nieuwste werk zullen laten horen. We sluiten de avond af met een open mic, waarbij iedereen (dus jij ook!) de microfoon mag pakken. Bereid je voor op alles wat er borrelt binnen de nieuwste garde van de spoken word scene: rake metaforen, activistische statements én een hele hoop liefde.&nbsp;</p>
<p>Poetry Circle is hét landelijke platform voor spoken word, met circles in acht verschillende steden. Iedere circle heeft wekelijks les in hun eigen stad, en tijdens een Circle Session komen er deelnemers uit twee verschillende circles samen. Deze avonden worden traditiegetrouw afgesloten met een open&nbsp;mic, waar elk talent welkom is. Circle&nbsp;Sessions&nbsp;helpen beginnende spoken word-artiesten podiumervaring op te doen en bieden de kans andere artiesten te leren kennen. De ideale plek om een beginnend netwerk op te bouwen!&nbsp;</p>
<p>Op vrijdag 24 april komt de Circle van Zwolle op bezoek, en vanuit Leeuwarden zie je onze eigen Ace, Aïsha, Aline, Brigitte, Cis, Daria, Emily, Esmee, Froukje, Gaia, Julian, Lotte, Nashara en Zee.</p>
LAST-MODIFIED:20260424T202654Z
LOCATION: Onbekend | Bagijnestraat 59 Leeuwarden
SEQUENCE:0
STATUS:CONFIRMED
SUMMARY:Poetry Circle: Circle Session 058 X 038
TRANSP:OPAQUE
END:VEVENT
END:VCALENDAR
