BEGIN:VCALENDAR
PRODID:-//PUBBLE//agenda//NL
VERSION:2.0
METHOD:PUBLISH
BEGIN:VEVENT
DTSTART:20260530T200000Z
DTEND:20260530T223000Z
DTSTAMP:20260421T182221Z
UID:7aa07c61-909e-424b-88eb-7da276c2abb8
CREATED:20260421T182221Z
NAME:LÛD grootleeuwarden.nl
X-WR-CALNAME:LÛD
X-ALT-DESC;FMTTYPE=text/html:<a href='/agenda/2026/5/30/lud-126729'>/agenda/2026/5/30/lud-126729</a> || <p><strong>Zij hebben hun krachten gebundeld om samen een unieke en adembenemende voorstelling neer te zetten. Op 30 mei 2026 wordt het WTC Expo Leeuwarden omgetoverd tot een muzikaal hart van kippenvel, verbinding en energie.&nbsp;</strong></p>
<p>Beleef LÛD in Leeuwarden op 30 mei 2026, waar meer dan 2.000 muzikanten en zangers samen het podium vullen met een groots muzikaal spektakel. In het WTC Expo komt alles samen in een voorstelling vol energie, verbinding en verrassende muzikale wendingen, van pop tot klassiek en van klein en intiem tot meeslepend en groots.</p>
<p>Met namen als Eric Vloeimans, Jos Jansen, Cesar Zuiderwijk en 3JS staat er een avond die je bijblijft. LÛD laat horen wat er ontstaat als mensen samen spelen, zingen en het moment pakken.</p>
<p>Ook achter de schermen gebeurt er van alles. Als vrijwilliger maak je het evenement van dichtbij mee, ontmoet je nieuwe mensen en draag je bij aan een avond waar nog lang over wordt nagepraat.</p>
<p><strong>Word vrijwilliger</strong></p>
<p>Hou je van cultuur, muziek en mensen? Bij LÛD maak je evenementen van dichtbij mee en ben je onderdeel van een enthousiast en creatief team. Ontmoet nieuwe mensen, doe ervaring op en draag bij aan onvergetelijke avonden. Info en aanmeldopties vind je <a href="https://docs.google.com/forms/d/e/1FAIpQLSe1l9selOJGn5EXMO0ZTkh0PbHMDwJSJNGo69GrX_6G2ifTdw/viewform?pli=1" target="_blank" rel="noreferrer noopener">hier</a>.</p>
DESCRIPTION:<a href='/agenda/2026/5/30/lud-126729'>/agenda/2026/5/30/lud-126729</a> || <p><strong>Zij hebben hun krachten gebundeld om samen een unieke en adembenemende voorstelling neer te zetten. Op 30 mei 2026 wordt het WTC Expo Leeuwarden omgetoverd tot een muzikaal hart van kippenvel, verbinding en energie.&nbsp;</strong></p>
<p>Beleef LÛD in Leeuwarden op 30 mei 2026, waar meer dan 2.000 muzikanten en zangers samen het podium vullen met een groots muzikaal spektakel. In het WTC Expo komt alles samen in een voorstelling vol energie, verbinding en verrassende muzikale wendingen, van pop tot klassiek en van klein en intiem tot meeslepend en groots.</p>
<p>Met namen als Eric Vloeimans, Jos Jansen, Cesar Zuiderwijk en 3JS staat er een avond die je bijblijft. LÛD laat horen wat er ontstaat als mensen samen spelen, zingen en het moment pakken.</p>
<p>Ook achter de schermen gebeurt er van alles. Als vrijwilliger maak je het evenement van dichtbij mee, ontmoet je nieuwe mensen en draag je bij aan een avond waar nog lang over wordt nagepraat.</p>
<p><strong>Word vrijwilliger</strong></p>
<p>Hou je van cultuur, muziek en mensen? Bij LÛD maak je evenementen van dichtbij mee en ben je onderdeel van een enthousiast en creatief team. Ontmoet nieuwe mensen, doe ervaring op en draag bij aan onvergetelijke avonden. Info en aanmeldopties vind je <a href="https://docs.google.com/forms/d/e/1FAIpQLSe1l9selOJGn5EXMO0ZTkh0PbHMDwJSJNGo69GrX_6G2ifTdw/viewform?pli=1" target="_blank" rel="noreferrer noopener">hier</a>.</p>
LAST-MODIFIED:20260421T182221Z
LOCATION: WTC Expo | Heliconweg 52 Leeuwarden
SEQUENCE:0
STATUS:CONFIRMED
SUMMARY:LÛD
TRANSP:OPAQUE
END:VEVENT
END:VCALENDAR
