BEGIN:VCALENDAR
PRODID:-//PUBBLE//agenda//NL
VERSION:2.0
METHOD:PUBLISH
BEGIN:VEVENT
DTSTART:20260516T220000Z
DTEND:20260516T220000Z
DTSTAMP:20260421T171218Z
UID:5bd58609-f436-4e21-9fb5-ba04a8416a82
CREATED:20260421T171218Z
NAME:‘Two Faces’, Rock classics door Jos Harteveld en Eddie Mulder grootleeuwarden.nl
X-WR-CALNAME:‘Two Faces’, Rock classics door Jos Harteveld en Eddie Mulder
X-ALT-DESC;FMTTYPE=text/html:<a href='/agenda/2026/5/17/two-faces-rock-classics-door-jos-harteveld-en-eddie-mulder-126078'>/agenda/2026/5/17/two-faces-rock-classics-door-jos-harteveld-en-eddie-mulder-126078</a> || <p><strong>‘Two Faces’,&nbsp;</strong><br /><strong>Rock classics door Jos Harteveld en Eddie Mulder</strong><br /><strong>zondag 17 mei 2026 om 15.00 uur</strong></p>
<p>‘Two Faces’ is een duo met de musici Jos Harteveld en Eddie Mulder en is, zoals de naam al doet vermoeden, een duo dat in de allerkleinste bezetting rock-classics brengt, zonder dat de essentie en oorsprong van het liedje eronder lijdt.</p>
<p>Verrassend is daarom ook hun repertoirekeuze dat nummers bevat van o.a. Neil Young tot Deep Purple en van Tom Petty tot Peter Gabriel, traditionals en zelfs Pink Floyd.<br /> De eerdergenoemde essentie wordt voorzien van jarenlange muzikale ervaring. <br /> Daarnaast is er veel onderlinge interactie waardoor de muzikale elementen in hun spel nog beter naar voren komen. <br /> Dit duo haalt op deze manier het beste in elkaar en zichzelf naar boven en ze bewijzen daardoor dat een kleine formatie toch compleet, muzikaal en dynamisch kan klinken.</p>
<p>Foto: Bob de Boer Photography.</p>
<p>De toegangsprijs is € 15,00; voor kinderen t/m 12 jaar € 2,50 (incl. pauze-consumptie).<br />Bezoekers van dit concert kunnen van tevoren een ticket reserveren via het Ticketkantoor: <a href="https://www.ticketkantoor.nl/shop/twofaces" target="_blank">https://www.ticketkantoor.nl/shop/twofaces</a>&nbsp;.</p>
<p>Bij de kerk is weinig parkeerruimte. Bezoekers kunnen - op korte loopafstand en gratis - parkeren op het ruime parkeerterrein tegenover Intratuin (zuidzijde Tijnjedijk).<br /> <br /> Inlichtingen: <a href="mailto:dorpskerkhuizum@gmail.com">dorpskerkhuizum@gmail.com</a>&nbsp;. <br /> Meer informatie op: <a href="https://www.dorpskerkhuizum.nl" target="_blank">https://www.dorpskerkhuizum.nl</a>&nbsp;,<br /> https://www.facebook.com/dorpskerkhuizum .</p>
<p><strong>Tijdstip</strong><br />15.00 uur</p>
<p><strong>Entree</strong><br />€ 15,00; voor kinderen t/m 12 jaar € 2,50 (incl. pauze-consumptie).</p>
<p><strong>Informatie of reservering</strong><br /></p>
<p>Bezoekers van dit concert kunnen van tevoren een ticket reserveren via het Ticketkantoor: <a href="https://www.ticketkantoor.nl/shop/twofaces" target="_blank">https://www.ticketkantoor.nl/shop/twofaces</a>&nbsp;.</p>
DESCRIPTION:<a href='/agenda/2026/5/17/two-faces-rock-classics-door-jos-harteveld-en-eddie-mulder-126078'>/agenda/2026/5/17/two-faces-rock-classics-door-jos-harteveld-en-eddie-mulder-126078</a> || <p><strong>‘Two Faces’,&nbsp;</strong><br /><strong>Rock classics door Jos Harteveld en Eddie Mulder</strong><br /><strong>zondag 17 mei 2026 om 15.00 uur</strong></p>
<p>‘Two Faces’ is een duo met de musici Jos Harteveld en Eddie Mulder en is, zoals de naam al doet vermoeden, een duo dat in de allerkleinste bezetting rock-classics brengt, zonder dat de essentie en oorsprong van het liedje eronder lijdt.</p>
<p>Verrassend is daarom ook hun repertoirekeuze dat nummers bevat van o.a. Neil Young tot Deep Purple en van Tom Petty tot Peter Gabriel, traditionals en zelfs Pink Floyd.<br /> De eerdergenoemde essentie wordt voorzien van jarenlange muzikale ervaring. <br /> Daarnaast is er veel onderlinge interactie waardoor de muzikale elementen in hun spel nog beter naar voren komen. <br /> Dit duo haalt op deze manier het beste in elkaar en zichzelf naar boven en ze bewijzen daardoor dat een kleine formatie toch compleet, muzikaal en dynamisch kan klinken.</p>
<p>Foto: Bob de Boer Photography.</p>
<p>De toegangsprijs is € 15,00; voor kinderen t/m 12 jaar € 2,50 (incl. pauze-consumptie).<br />Bezoekers van dit concert kunnen van tevoren een ticket reserveren via het Ticketkantoor: <a href="https://www.ticketkantoor.nl/shop/twofaces" target="_blank">https://www.ticketkantoor.nl/shop/twofaces</a>&nbsp;.</p>
<p>Bij de kerk is weinig parkeerruimte. Bezoekers kunnen - op korte loopafstand en gratis - parkeren op het ruime parkeerterrein tegenover Intratuin (zuidzijde Tijnjedijk).<br /> <br /> Inlichtingen: <a href="mailto:dorpskerkhuizum@gmail.com">dorpskerkhuizum@gmail.com</a>&nbsp;. <br /> Meer informatie op: <a href="https://www.dorpskerkhuizum.nl" target="_blank">https://www.dorpskerkhuizum.nl</a>&nbsp;,<br /> https://www.facebook.com/dorpskerkhuizum .</p>
<p><strong>Tijdstip</strong><br />15.00 uur</p>
<p><strong>Entree</strong><br />€ 15,00; voor kinderen t/m 12 jaar € 2,50 (incl. pauze-consumptie).</p>
<p><strong>Informatie of reservering</strong><br /></p>
<p>Bezoekers van dit concert kunnen van tevoren een ticket reserveren via het Ticketkantoor: <a href="https://www.ticketkantoor.nl/shop/twofaces" target="_blank">https://www.ticketkantoor.nl/shop/twofaces</a>&nbsp;.</p>
LAST-MODIFIED:20260421T171218Z
LOCATION: Onbekend | Huizum Dorp 67 Leeuwarden
SEQUENCE:0
STATUS:CONFIRMED
SUMMARY:‘Two Faces’, Rock classics door Jos Harteveld en Eddie Mulder
TRANSP:OPAQUE
END:VEVENT
END:VCALENDAR
